BEGIN:VCALENDAR
VERSION:2.0
PRODID:-//wp-events-plugin.com//7.2.3.1//EN
TZID:Europe/Paris
X-WR-TIMEZONE:Europe/Paris
BEGIN:VEVENT
UID:225@bananierbleu.fr
DTSTART;TZID=Europe/Paris:20120609T200000
DTEND;TZID=Europe/Paris:20120609T230000
DTSTAMP:20120522T130435Z
URL:https://bananierbleu.fr/concerts-test/1ere-rencontre-piano-flora-sicot
 /
SUMMARY:[1ère rencontre piano] Flora Sicot - Chez Henri - 9 Juin 12 20:00
DESCRIPTION:Dans le cadre de l'édition 2012 de "Première rencontre autour
  du Piano"
CATEGORIES:Concerts en Guadeloupe
LOCATION:Chez Henri\, 8\, avenue des Caraïbes\, Saint Louis de Marie-Galan
 te\, Guadeloupe\, 97134\, Guadeloupe\, Guadeloupe
GEO:15.954149;-61.318902
X-APPLE-STRUCTURED-LOCATION;VALUE=URI;X-ADDRESS=8\, avenue des Caraïbes\, 
 Saint Louis de Marie-Galante\, Guadeloupe\, 97134\, Guadeloupe\, Guadeloup
 e;X-APPLE-RADIUS=100;X-TITLE=Chez Henri:geo:15.954149,-61.318902
END:VEVENT
BEGIN:VTIMEZONE
TZID:Europe/Paris
X-LIC-LOCATION:Europe/Paris
BEGIN:DAYLIGHT
DTSTART:20120325T030000
TZOFFSETFROM:+0100
TZOFFSETTO:+0200
TZNAME:CEST
END:DAYLIGHT
END:VTIMEZONE
END:VCALENDAR