BEGIN:VCALENDAR
VERSION:2.0
PRODID:-//wp-events-plugin.com//7.2.3.1//EN
TZID:Europe/Paris
X-WR-TIMEZONE:Europe/Paris
BEGIN:VEVENT
UID:226@bananierbleu.fr
DTSTART;TZID=Europe/Paris:20120611T200000
DTEND;TZID=Europe/Paris:20120611T230000
DTSTAMP:20120522T130556Z
URL:https://bananierbleu.fr/concerts-test/1ere-rencontre-piano-franck-sour
 iant-trio-dominique-leblanc-trio/
SUMMARY:[1ère rencontre piano] Franck Souriant (trio) / Dominique Leblanc 
 (trio) - Ciné Théatre Du Lamentin - 11 Juin 12 20:00
DESCRIPTION:Dans le cadre de l'édition 2012 de "Première rencontre autour
  du Piano"
CATEGORIES:Concerts en Guadeloupe
LOCATION:Ciné Théatre Du Lamentin\, cité Jean Jaurès\, Lamentin\, Guade
 loupe\, 97129\, Guadeloupe\, Guadeloupe
GEO:16.2689865;-61.639195400000006
X-APPLE-STRUCTURED-LOCATION;VALUE=URI;X-ADDRESS=cité Jean Jaurès\, Lament
 in\, Guadeloupe\, 97129\, Guadeloupe\, Guadeloupe;X-APPLE-RADIUS=100;X-TIT
 LE=Ciné Théatre Du Lamentin:geo:16.2689865,-61.639195400000006
END:VEVENT
BEGIN:VTIMEZONE
TZID:Europe/Paris
X-LIC-LOCATION:Europe/Paris
BEGIN:DAYLIGHT
DTSTART:20120325T030000
TZOFFSETFROM:+0100
TZOFFSETTO:+0200
TZNAME:CEST
END:DAYLIGHT
END:VTIMEZONE
END:VCALENDAR