BEGIN:VCALENDAR
VERSION:2.0
PRODID:-//wp-events-plugin.com//7.2.3.1//EN
TZID:Europe/Paris
X-WR-TIMEZONE:Europe/Paris
BEGIN:VEVENT
UID:3675@bananierbleu.fr
DTSTART;TZID=Europe/Paris:20230825T190000
DTEND;TZID=Europe/Paris:20230825T190000
DTSTAMP:20230820T211420Z
URL:https://bananierbleu.fr/concerts-test/abraham-reunion-2/
SUMMARY:Abraham Réunion - 38Riv' - Jazz Club & Bar - 25 Août 23 19:00
DESCRIPTION:L'aîné Zacharie est contrebassiste\, Cynthia la cadette est c
 hanteuse et Clélya la benjamine est pianiste. Bercée de musique depuis l
 ’enfance\, la fratrie Abraham se produit sur scène avec une grande comp
 licité. Le batteur Tilo Bertholo vient compléter subtilement la magie. I
 ls partagent ensemble une vision commune du jazz et de la musique en gén
 éral : un appel à la persévérance\, à l’optimiste et à l’ouvertu
 re\, sans oublier un solide ancrage caribéen !\n\nCynthia Abraham : voix\
 nClélya Abraham : piano\nZacharie Abraham : contrebasse\nTilo Bertholo : 
 batterie
ATTACH;FMTTYPE=image/jpeg:https://bananierbleu.fr/wp-content/uploads/2020/
 05/AbrahamTrio.jpg
CATEGORIES:Concerts en France
LOCATION:38Riv' - Jazz Club & Bar\, 38\, rue de Rivoli\, Paris\, Île de Fr
 ance\, 75004\, IleDeFrance\, France
GEO:48.856461;2.356461
X-APPLE-STRUCTURED-LOCATION;VALUE=URI;X-ADDRESS=38\, rue de Rivoli\, Paris\
 , Île de France\, 75004\, IleDeFrance\, France;X-APPLE-RADIUS=100;X-TITLE
 =38Riv' - Jazz Club & Bar:geo:48.856461,2.356461
END:VEVENT
BEGIN:VTIMEZONE
TZID:Europe/Paris
X-LIC-LOCATION:Europe/Paris
BEGIN:DAYLIGHT
DTSTART:20230326T030000
TZOFFSETFROM:+0100
TZOFFSETTO:+0200
TZNAME:CEST
END:DAYLIGHT
END:VTIMEZONE
END:VCALENDAR