BEGIN:VCALENDAR
VERSION:2.0
PRODID:-//wp-events-plugin.com//7.2.3.1//EN
TZID:Europe/Paris
X-WR-TIMEZONE:Europe/Paris
BEGIN:VEVENT
UID:3674@bananierbleu.fr
DTSTART;TZID=Europe/Paris:20230911T193000
DTEND;TZID=Europe/Paris:20230911T193000
DTSTAMP:20230820T210934Z
URL:https://bananierbleu.fr/concerts-test/abraham-reunion/
SUMMARY:Abraham Réunion - Duc des Lombards - 11 Sep 23 19:30
DESCRIPTION:L'aîné\, Zacharie\, est contrebassiste. Cynthia\, la cadette\
 , est chanteuse. Clélya\, la benjamine\, est pianiste. Les étoiles monta
 ntes du clan Abraham s'associent à Tilo Bertholo dans le projet "Abraham 
 Réunion"\, dont on s'empresse de découvrir les douces saveurs créoles.
ATTACH;FMTTYPE=image/jpeg:https://bananierbleu.fr/wp-content/uploads/2020/
 05/AbrahamTrio.jpg
CATEGORIES:Concerts en France
LOCATION:Duc des Lombards\, 42\, rue des Lombards\, Paris\, Île de France\
 , 75001\, IleDeFrance\, France
GEO:48.8597;2.3486
X-APPLE-STRUCTURED-LOCATION;VALUE=URI;X-ADDRESS=42\, rue des Lombards\, Par
 is\, Île de France\, 75001\, IleDeFrance\, France;X-APPLE-RADIUS=100;X-TI
 TLE=Duc des Lombards:geo:48.8597,2.3486
END:VEVENT
BEGIN:VTIMEZONE
TZID:Europe/Paris
X-LIC-LOCATION:Europe/Paris
BEGIN:DAYLIGHT
DTSTART:20230326T030000
TZOFFSETFROM:+0100
TZOFFSETTO:+0200
TZNAME:CEST
END:DAYLIGHT
END:VTIMEZONE
END:VCALENDAR