BEGIN:VCALENDAR
VERSION:2.0
PRODID:-//wp-events-plugin.com//7.2.3.1//EN
TZID:Europe/Paris
X-WR-TIMEZONE:Europe/Paris
BEGIN:VEVENT
UID:2686@bananierbleu.fr
DTSTART;TZID=Europe/Paris:20180926T213000
DTEND;TZID=Europe/Paris:20180926T213000
DTSTAMP:20180821T154520Z
URL:https://bananierbleu.fr/concerts-test/adele-belmont-quartet-4/
SUMMARY:Adèle Belmont quartet - Sunside - 26 Sep 18 21:30
DESCRIPTION:Adèle Belmont – vocal \; Jibril Caratini – piano \; Damien
  Nueva – c.basse \; Gaet Allard – batterie\n\nSes Maîtres\, ses inspi
 rateurs ont des visages\, des noms : Miles Davis \, Sarah Vaughan... Ils o
 nt rêvé sous la lune. C’est ce qui propulse Adèle Belmont\, originair
 e de la Martinique à faire vibrer ses racines avec une voix pleine de car
 actère. «Sa musique entre en résonance. Elle câline chaque onde\, chaq
 ue note\, chaque mot et chaque silence avec ce brin de folie qui transform
 e l’instant en un présent malicieux\, passionné et Ô combien merveill
 eux». Envolées lyriques\, rythmes Jazz\, caribéens\, gospel se côtoien
 t et se séparent pour mieux s’entrelacer.
ATTACH;FMTTYPE=image/jpeg:https://bananierbleu.fr/wp-content/uploads/2018/
 08/39665473_10209701981904980_1500228657698832384_n.jpg
CATEGORIES:Concerts en France
LOCATION:Sunside\, 60\, rue des Lombards\, Paris\, Île de France\, 75001\,
  IleDeFrance\, France
GEO:48.859937;2.347751
X-APPLE-STRUCTURED-LOCATION;VALUE=URI;X-ADDRESS=60\, rue des Lombards\, Par
 is\, Île de France\, 75001\, IleDeFrance\, France;X-APPLE-RADIUS=100;X-TI
 TLE=Sunside:geo:48.859937,2.347751
END:VEVENT
BEGIN:VTIMEZONE
TZID:Europe/Paris
X-LIC-LOCATION:Europe/Paris
BEGIN:DAYLIGHT
DTSTART:20180325T030000
TZOFFSETFROM:+0100
TZOFFSETTO:+0200
TZNAME:CEST
END:DAYLIGHT
END:VTIMEZONE
END:VCALENDAR