BEGIN:VCALENDAR
VERSION:2.0
PRODID:-//wp-events-plugin.com//7.2.3.1//EN
TZID:Europe/Paris
X-WR-TIMEZONE:Europe/Paris
BEGIN:VEVENT
UID:2374@bananierbleu.fr
DTSTART;TZID=Europe/Paris:20170922T193000
DTEND;TZID=Europe/Paris:20170922T193000
DTSTAMP:20170907T170046Z
URL:https://bananierbleu.fr/concerts-test/african-salsa-orchestra/
SUMMARY:African Salsa Orchestra - le Flow - 22 Sep 17 19:30
DESCRIPTION:Michel Pinheiro le pape de l'Afro-Salsa Made In Benin&nbsp\;à 
 la tête de l'African Salsa Orchestra\,&nbsp\;ensemble unique de musiciens
  d'origines béninoise\, camerounaise\,\ncongolaise\, cubaine et français
 e\, nous transporte aux sons&nbsp\;des tambours de l'Afrique de l'Ouest et
  de la&nbsp\;Salsa de Cuba.\n&nbsp\;\n\nPour fêter ses trois ans l'Africa
 n Salsa Orchestra sort son premier album éponyme\, dans une formation él
 argie à 15 musiciens&nbsp\;composée de cuivres\, cordes\, percussions et
  voix. Ce tout nouveau répertoire a été créé à l’occasion de conce
 rts donnés durant l'été 2016 pour les festivals Paris Jazz Festival et 
 Tempo Latino. Le trombone et la voix chaude et épicée de Michel Pinheiro
 \, nous emmènent\, avec l'African Salsa Orchestra\, dans un voyage musica
 l et dansant au cœur des sons des tambours de l'Afrique de l'Ouest et de 
 la salsa de Cuba. Ce nouvel album&nbsp\;propose des compositions originale
 s qui traitent des problèmes de la vie quotidienne des béninois et des p
 euples du continent Africain. Michel Pinheiro\, au travers de sa musique\,
  dénonce la corruption\, et pointe les fléaux qui minent ce continent.\n
 &nbsp\;\nLa musique de l’ASO est une salsa qui revient aux fondamentaux 
 de la musique Afro-cubaine laissant une large place aux percussions et aux
  rythmes traditionnels Afro qui ont donné naissance\, après leur travers
 ée de l'atlantique\, aux musiques cubaines. Il en résulte un style uniqu
 e identifiable à la première note.\n
ATTACH;FMTTYPE=image/jpeg:https://bananierbleu.fr/wp-content/uploads/2017/
 09/africansalsa.jpg
CATEGORIES:Concerts en France
LOCATION:le Flow\, 4\, Port des Invalides\, Paris\, 75007\, France
GEO:48.8631706;2.31415370000002
X-APPLE-STRUCTURED-LOCATION;VALUE=URI;X-ADDRESS=4\, Port des Invalides\, Pa
 ris\, 75007\, France;X-APPLE-RADIUS=100;X-TITLE=le Flow:geo:48.8631706,2.3
 1415370000002
END:VEVENT
BEGIN:VTIMEZONE
TZID:Europe/Paris
X-LIC-LOCATION:Europe/Paris
BEGIN:DAYLIGHT
DTSTART:20170326T030000
TZOFFSETFROM:+0100
TZOFFSETTO:+0200
TZNAME:CEST
END:DAYLIGHT
END:VTIMEZONE
END:VCALENDAR