BEGIN:VCALENDAR
VERSION:2.0
PRODID:-//wp-events-plugin.com//7.2.3.1//EN
TZID:Europe/Paris
X-WR-TIMEZONE:Europe/Paris
BEGIN:VEVENT
UID:12@bananierbleu.fr
DTSTART;TZID=Europe/Paris:20111202T210000
DTEND;TZID=Europe/Paris:20111202T230000
DTSTAMP:20120103T133830Z
URL:https://bananierbleu.fr/concerts-test/afrobeat-celebration-day/
SUMMARY:Afrobeat Celebration Day - le Petit Bain - 2 Déc 11 21:00
DESCRIPTION:KIALA INVITE TONY ALLEN\, SANDRA NKAKE\, PRINCESS ERIKA\, CHEIC
 K TIDIANE SECK\, STEPHANE BELMONDO\, CYRIL ATEF\, DOCTOR L\, ALLONYMOUS...
 \n\nDes clubs enfumés et enflammés de Lagos aux quais de la Seine en pas
 sant par New York et Los Angeles\, les souvenirs tenaces collent à la pea
 u. Cette flamme entretenue et ravivée par Kiala\, pionnier des Ghetto Bla
 ster (1984 - 2006) et fidèle compagnon d’armes de Fela (1981 - 1983)\, 
 avec lequel il “croisa le fer” à la guitare au sein des Fela & Africa
  70\, n’aura pas mis longtemps pour remettre le feu aux poudres.\nKiala\
 , le punch\, le groove\, l’insolente énergie… Le souffle ardent de l
 ’afrobeat est toujours là\, vivant et vibrant.\n\nPour ses 60 ans et 40
  annnées de carrière\, Kiala invite ses frères et amis\, Tony Allen\, S
 andra Nkake\, Cheick Tidiane Seck\, Cyril Atef\, Stéphane Belmondo\, Prin
 cess Erika\, Doctor L\, Allonymous et d'autres surprises.\n\nSa fille\, Ki
 ala Junior\, future icone soul\, et son groupe seront en première partie.
 \n\n17€ prévente\, 20€ le soir même.\nLocations aux points de ventes
  habituels.
CATEGORIES:Concerts en France
LOCATION:le Petit Bain\, 7\, port de la Gare\, Paris\, 75013\, Ile de Franc
 e\, France
GEO:48.8348;2.37712
X-APPLE-STRUCTURED-LOCATION;VALUE=URI;X-ADDRESS=7\, port de la Gare\, Paris
 \, 75013\, Ile de France\, France;X-APPLE-RADIUS=100;X-TITLE=le Petit Bain
 :geo:48.8348,2.37712
END:VEVENT
BEGIN:VTIMEZONE
TZID:Europe/Paris
X-LIC-LOCATION:Europe/Paris
BEGIN:STANDARD
DTSTART:20111030T020000
TZOFFSETFROM:+0200
TZOFFSETTO:+0100
TZNAME:CET
END:STANDARD
END:VTIMEZONE
END:VCALENDAR