BEGIN:VCALENDAR
VERSION:2.0
PRODID:-//wp-events-plugin.com//7.2.3.1//EN
TZID:Europe/Paris
X-WR-TIMEZONE:Europe/Paris
BEGIN:VEVENT
UID:4119@bananierbleu.fr
DTSTART;TZID=Europe/Paris:20260523T203000
DTEND;TZID=Europe/Paris:20260523T203000
DTSTAMP:20260421T085127Z
URL:https://bananierbleu.fr/concerts-test/afrobeat-giants-hommage-a-hilair
 e-penda/
SUMMARY:Afrobeat Giants\, Hommage à Hilaire Penda - New Morning - 23 Mai 2
 6 20:30
DESCRIPTION:\n 	Personnel : Cyril Atef (batterie)\, Dj Ness Afro (D.J.)\, I
 ndy Dibongue (guitare)\, Jamayê Viveiros (trompette)\, Jean-Baptiste Gbad
 oe (batterie)\, Kiala Nzavotunga (guitare\, voix)\, Magic Malik (flute)\, 
 Myriam Betty (voix)\, Nathou Le Totem (saxophone)\, Patrick Gorce (percuss
 ions)\, Thomas Hugenel (basse)\, Tiphaine Deligne (claviers)\, Vincent Seg
 al (violoncelle)\n 	Présentation : Ce concert rend hommage à Hilaire Pen
 da\, bassiste camerounais disparu en 2018\, en réunissant des figures maj
 eures de l'afro-jazz-funk et de l'électro. L'événement célèbre la sor
 tie de l'album « One Race »\, un projet vibrant et engagé\, mêlant afr
 obeat\, funk\, jazz et gospel\, avec des influences allant de James Brown 
 à Gil Scott Heron. Les musiciens\, dont Kiala\, Cyril Atef\, Vincent Sega
 l et Magic Malik\, offrent une performance riche\, inspirée par la divers
 ité et la magie de la musique africaine des années 70-80.\n
ATTACH;FMTTYPE=image/jpeg:https://bananierbleu.fr/wp-content/uploads/2026/
 04/afrobeat_giants.jpg
CATEGORIES:Concerts en France
LOCATION:New Morning\, 7-9 rue des Petites Ecuries\, Paris\, Île de France
 \, 75010\, IleDeFrance\, France
GEO:48.8732;2.35323
X-APPLE-STRUCTURED-LOCATION;VALUE=URI;X-ADDRESS=7-9 rue des Petites Ecuries
 \, Paris\, Île de France\, 75010\, IleDeFrance\, France;X-APPLE-RADIUS=10
 0;X-TITLE=New Morning:geo:48.8732,2.35323
END:VEVENT
BEGIN:VTIMEZONE
TZID:Europe/Paris
X-LIC-LOCATION:Europe/Paris
BEGIN:DAYLIGHT
DTSTART:20260329T030000
TZOFFSETFROM:+0100
TZOFFSETTO:+0200
TZNAME:CEST
END:DAYLIGHT
END:VTIMEZONE
END:VCALENDAR