BEGIN:VCALENDAR
VERSION:2.0
PRODID:-//wp-events-plugin.com//7.2.3.1//EN
TZID:Europe/Paris
X-WR-TIMEZONE:Europe/Paris
BEGIN:VEVENT
UID:517@bananierbleu.fr
DTSTART;TZID=Europe/Paris:20130528T200000
DTEND;TZID=Europe/Paris:20130528T200000
DTSTAMP:20140518T201044Z
URL:https://bananierbleu.fr/concerts-test/alain-ginape-afrojazz-quartet/
SUMMARY:Alain Ginapé afro/jazz quartet - Sunside - 28 Mai 13 20:00
DESCRIPTION:Quartet afro/jazz cette fois pour le talentueux guitariste Alai
 n Ginapé. Invité prestigieux du quartet\, le pianiste Alain Jean Marie\,
  accompagné à la basse de Charles Ahmed Barry et Etienne Brachet à la b
 atterie. Alain Ginapé va nous enivrer avec ses mélodies et ses rythmes\,
  profondément enracinés dans la culture de la diaspora. A ne pas rater !
  le 28 mai à 20 H au Sunside Sunset à Paris.\n\nPour le Bananier bleu - 
 code promo à utiliser uniquement lors de l'achat de places sur le site du
  Sunset-Sunside\, pour bénéficier d'une réduction de 8 euros : ALGIN285
CATEGORIES:Concerts en France
LOCATION:Sunside\, 60\, rue des Lombards\, Paris\, Île de France\, 75001\,
  IleDeFrance\, France
GEO:48.859937;2.347751
X-APPLE-STRUCTURED-LOCATION;VALUE=URI;X-ADDRESS=60\, rue des Lombards\, Par
 is\, Île de France\, 75001\, IleDeFrance\, France;X-APPLE-RADIUS=100;X-TI
 TLE=Sunside:geo:48.859937,2.347751
END:VEVENT
BEGIN:VTIMEZONE
TZID:Europe/Paris
X-LIC-LOCATION:Europe/Paris
BEGIN:DAYLIGHT
DTSTART:20130331T030000
TZOFFSETFROM:+0100
TZOFFSETTO:+0200
TZNAME:CEST
END:DAYLIGHT
END:VTIMEZONE
END:VCALENDAR