BEGIN:VCALENDAR
VERSION:2.0
PRODID:-//wp-events-plugin.com//7.2.3.1//EN
TZID:Europe/Paris
X-WR-TIMEZONE:Europe/Paris
BEGIN:VEVENT
UID:364@bananierbleu.fr
DTSTART;TZID=Europe/Paris:20130105T200000
DTEND;TZID=Europe/Paris:20130105T220000
DTSTAMP:20121228T104144Z
URL:https://bananierbleu.fr/concerts-test/alain-ginape-equilibre/
SUMMARY:Alain Ginapé & Equilibre - l'EnCRe - les Trois Fleuves - 5 Jan 13 
 20:00
DESCRIPTION:De retour au pays Alain Ginapé et le groupe Equilibre sont heu
 reux de jouer en Guyane un jazz caribéen plein de vie.
CATEGORIES:Concerts dans la Caraïbe
LOCATION:l'EnCRe - les Trois Fleuves\, route de Montabo\, Cayenne\, Guyane\
 , 97300\, Guyane\, France
GEO:4.9347066;-52.295450200000005
X-APPLE-STRUCTURED-LOCATION;VALUE=URI;X-ADDRESS=route de Montabo\, Cayenne\
 , Guyane\, 97300\, Guyane\, France;X-APPLE-RADIUS=100;X-TITLE=l'EnCRe - le
 s Trois Fleuves:geo:4.9347066,-52.295450200000005
END:VEVENT
BEGIN:VTIMEZONE
TZID:Europe/Paris
X-LIC-LOCATION:Europe/Paris
BEGIN:STANDARD
DTSTART:20121028T020000
TZOFFSETFROM:+0200
TZOFFSETTO:+0100
TZNAME:CET
END:STANDARD
END:VTIMEZONE
END:VCALENDAR