BEGIN:VCALENDAR
VERSION:2.0
PRODID:-//wp-events-plugin.com//7.2.3.1//EN
TZID:Europe/Paris
X-WR-TIMEZONE:Europe/Paris
BEGIN:VEVENT
UID:151@bananierbleu.fr
DTSTART;TZID=Europe/Paris:20120416T203000
DTEND;TZID=Europe/Paris:20120416T223000
DTSTAMP:20120323T182655Z
URL:https://bananierbleu.fr/concerts-test/alain-ginape/
SUMMARY:Alain Ginapé - la Grange à Musique - 16 Avr 12 20:30
DESCRIPTION:Concert gratuit de world-jazz : Alain Ginapé et le groupe Equi
 libre vous propose un vrai moment de bonheur\, jazz\, blues\, biguine\, to
 utes les musiques seront là. Avec Charles Ahmed Barry\, basse\, Tony Tixi
 er\, piano\, Etienne Brachet\, batterie et Luma Eloise chant. - 
CATEGORIES:Concerts en France
LOCATION:la Grange à Musique\, 6 boulevard Salvador Allende\, Creil\, 6010
 0\, France
GEO:49.25123139999999;2.476056999999969
X-APPLE-STRUCTURED-LOCATION;VALUE=URI;X-ADDRESS=6 boulevard Salvador Allend
 e\, Creil\, 60100\, France;X-APPLE-RADIUS=100;X-TITLE=la Grange à Musique
 :geo:49.25123139999999,2.476056999999969
END:VEVENT
BEGIN:VTIMEZONE
TZID:Europe/Paris
X-LIC-LOCATION:Europe/Paris
BEGIN:DAYLIGHT
DTSTART:20120325T030000
TZOFFSETFROM:+0100
TZOFFSETTO:+0200
TZNAME:CEST
END:DAYLIGHT
END:VTIMEZONE
END:VCALENDAR