BEGIN:VCALENDAR
VERSION:2.0
PRODID:-//wp-events-plugin.com//7.2.3.1//EN
TZID:Europe/Paris
X-WR-TIMEZONE:Europe/Paris
BEGIN:VEVENT
UID:3672@bananierbleu.fr
DTSTART;TZID=Europe/Paris:20230915T213000
DTEND;TZID=Europe/Paris:20230916T213000
DTSTAMP:20230820T210239Z
URL:https://bananierbleu.fr/concerts-test/alain-jean-marie-patrice-caratin
 i-roger-raspail-tropical-jazz-trio-nouvel-album/
SUMMARY:Alain Jean-Marie | Patrice Caratini | Roger Raspail « Tropical Jaz
 z Trio » Nouvel Album - Sunside - 15 Sep 23 21:30
DESCRIPTION:Patrice Caratini - c.basse \; Alain Jean Marie - piano \; Roger
  Raspail - percussions\n\n\n\nToujours teinté du soleil des Caraïbes et 
 des rythmes Afro jazz\, ce nouvel album de Tropical Jazz Trio se déguste 
 comme un vieux rhum. Patrice Caratini\, Alain Jean-Marie et Roger Raspail 
 perpétuent une conversation musicale entamée autour de la rencontre séc
 ulaire de l’Afrique et de l’Europe aux Amériques. Un futur grand clas
 sique du Jazz.\n\n
ATTACH;FMTTYPE=image/jpeg:https://bananierbleu.fr/wp-content/uploads/2023/
 08/TropicalJazzTrio.png
CATEGORIES:Concerts en France
LOCATION:Sunside\, 60\, rue des Lombards\, Paris\, Île de France\, 75001\,
  IleDeFrance\, France
GEO:48.859937;2.347751
X-APPLE-STRUCTURED-LOCATION;VALUE=URI;X-ADDRESS=60\, rue des Lombards\, Par
 is\, Île de France\, 75001\, IleDeFrance\, France;X-APPLE-RADIUS=100;X-TI
 TLE=Sunside:geo:48.859937,2.347751
END:VEVENT
BEGIN:VTIMEZONE
TZID:Europe/Paris
X-LIC-LOCATION:Europe/Paris
BEGIN:DAYLIGHT
DTSTART:20230326T030000
TZOFFSETFROM:+0100
TZOFFSETTO:+0200
TZNAME:CEST
END:DAYLIGHT
END:VTIMEZONE
END:VCALENDAR