BEGIN:VCALENDAR
VERSION:2.0
PRODID:-//wp-events-plugin.com//7.2.3.1//EN
TZID:Europe/Paris
X-WR-TIMEZONE:Europe/Paris
BEGIN:VEVENT
UID:2316@bananierbleu.fr
DTSTART;TZID=Europe/Paris:20170715T203000
DTEND;TZID=Europe/Paris:20170715T203000
DTSTAMP:20170713T092325Z
URL:https://bananierbleu.fr/concerts-test/alain-josephine-nicolas-attie-co
 nversations/
SUMMARY:Alain Joséphine / Nicolas Attié - Conversations - La Créole Jazz
  Club - 15 Juil 17 20:30
DESCRIPTION:Deux univers vont se rejoindre pour cette soirée marquée par 
 le sceau du Jazz. Celui de Nicolas Attie\, dont la musique sait capter l
 ’auditoire par sa fraicheur et la rigueur de sa construction\, et celui 
 d’Alain Joséphine qui fait la part belle à la fois à l'énergie et à
  la poésie dans l’exposition de ses thèmes. Une soirée où les deux i
 nstrumentistes seront accompagnés par leurs compagnons de route habituels
 . À ne pas manquer.\n\nAlain Joséphine (saxophones)\nNicolas Attie (guit
 are)
ATTACH;FMTTYPE=image/jpeg:https://bananierbleu.fr/wp-content/uploads/2017/
 07/19884422_1489529874443575_5886437814872978220_n.jpg
CATEGORIES:Concerts en Guadeloupe
LOCATION:La Créole Jazz Club\, Pointe de la Verdure\, Le Gosier\, Guadelou
 pe\, 97190\, Guadeloupe\, Guadeloupe
GEO:16.206832;-61.50359980000002
X-APPLE-STRUCTURED-LOCATION;VALUE=URI;X-ADDRESS=Pointe de la Verdure\, Le G
 osier\, Guadeloupe\, 97190\, Guadeloupe\, Guadeloupe;X-APPLE-RADIUS=100;X-
 TITLE=La Créole Jazz Club:geo:16.206832,-61.50359980000002
END:VEVENT
BEGIN:VTIMEZONE
TZID:Europe/Paris
X-LIC-LOCATION:Europe/Paris
BEGIN:DAYLIGHT
DTSTART:20170326T030000
TZOFFSETFROM:+0100
TZOFFSETTO:+0200
TZNAME:CEST
END:DAYLIGHT
END:VTIMEZONE
END:VCALENDAR