BEGIN:VCALENDAR
VERSION:2.0
PRODID:-//wp-events-plugin.com//7.2.3.1//EN
TZID:Europe/Paris
X-WR-TIMEZONE:Europe/Paris
BEGIN:VEVENT
UID:2382@bananierbleu.fr
DTSTART;TZID=Europe/Paris:20170929T203000
DTEND;TZID=Europe/Paris:20170929T203000
DTSTAMP:20170927T090117Z
URL:https://bananierbleu.fr/concerts-test/all-jazz-tours/
SUMMARY:All Jazz Tours - La Créole Jazz Club - 29 Sep 17 20:30
DESCRIPTION:La Créole Jazz Club accueille le groupe « All Jazz Tours ». 
 Venez découvrir un répertoire composé de standards de jazz\, de biguine
 s et de quelques classiques de boléros latinos.\n\nFrançois Quillin (pia
 no)\nRaymond D’Huy (basse)\nXénia Caraïbes (chant)\nJoseph Cazimir (ba
 tterie)
ATTACH;FMTTYPE=image/jpeg:https://bananierbleu.fr/wp-content/uploads/2017/
 09/21766796_1566471880082707_2255975954630202738_n.jpg
CATEGORIES:Concerts en Guadeloupe
LOCATION:La Créole Jazz Club\, Pointe de la Verdure\, Le Gosier\, Guadelou
 pe\, 97190\, Guadeloupe\, Guadeloupe
GEO:16.206832;-61.50359980000002
X-APPLE-STRUCTURED-LOCATION;VALUE=URI;X-ADDRESS=Pointe de la Verdure\, Le G
 osier\, Guadeloupe\, 97190\, Guadeloupe\, Guadeloupe;X-APPLE-RADIUS=100;X-
 TITLE=La Créole Jazz Club:geo:16.206832,-61.50359980000002
END:VEVENT
BEGIN:VTIMEZONE
TZID:Europe/Paris
X-LIC-LOCATION:Europe/Paris
BEGIN:DAYLIGHT
DTSTART:20170326T030000
TZOFFSETFROM:+0100
TZOFFSETTO:+0200
TZNAME:CEST
END:DAYLIGHT
END:VTIMEZONE
END:VCALENDAR