BEGIN:VCALENDAR
VERSION:2.0
PRODID:-//wp-events-plugin.com//7.2.3.1//EN
TZID:Europe/Paris
X-WR-TIMEZONE:Europe/Paris
BEGIN:VEVENT
UID:3855@bananierbleu.fr
DTSTART;TZID=Europe/Paris:20241202T200000
DTEND;TZID=Europe/Paris:20241202T200000
DTSTAMP:20241123T194059Z
URL:https://bananierbleu.fr/concerts-test/altered-states/
SUMMARY:Altered States - New Morning - 2 Déc 24 20:00
DESCRIPTION:Jowee Omicil\, Tiss Rodriguez\, Julia Richards &amp\; Val Jeant
 y\n\nAltered States\, projet initié en collaboration avec la Brooklyn Mus
 ic School\, est une célébration du jazz sans frontières. Ce concert qui
  intègre les traditions jazz françaises et américaines\, propose une ex
 périence musicale unique et rafraîchissante. Nous vous invitons à déco
 uvrir l'énergie vibrante de cette musique en live et à explorer de nouve
 aux sons\, avec la spontanéité et l'authenticité au coeur de cette dém
 arche artistique. Que vous soyez un passionné de jazz ou simplement curie
 ux\, venez vivre ce voyage créatif. Idéal pour tous les amateurs de musi
 que\, c'est une soirée de liberté et d'exploration musicale qui ne manqu
 era pas de vous inspirer.
ATTACH;FMTTYPE=image/jpeg:https://bananierbleu.fr/wp-content/uploads/2024/
 11/Jowee.jpg
CATEGORIES:Concerts en France
LOCATION:New Morning\, 7-9 rue des Petites Ecuries\, Paris\, Île de France
 \, 75010\, IleDeFrance\, France
GEO:48.8732;2.35323
X-APPLE-STRUCTURED-LOCATION;VALUE=URI;X-ADDRESS=7-9 rue des Petites Ecuries
 \, Paris\, Île de France\, 75010\, IleDeFrance\, France;X-APPLE-RADIUS=10
 0;X-TITLE=New Morning:geo:48.8732,2.35323
END:VEVENT
BEGIN:VTIMEZONE
TZID:Europe/Paris
X-LIC-LOCATION:Europe/Paris
BEGIN:STANDARD
DTSTART:20241027T020000
TZOFFSETFROM:+0200
TZOFFSETTO:+0100
TZNAME:CET
END:STANDARD
END:VTIMEZONE
END:VCALENDAR