BEGIN:VCALENDAR
VERSION:2.0
PRODID:-//wp-events-plugin.com//7.2.3.1//EN
TZID:Europe/Paris
X-WR-TIMEZONE:Europe/Paris
BEGIN:VEVENT
UID:4099@bananierbleu.fr
DTSTART;TZID=Europe/Paris:20260428T203000
DTEND;TZID=Europe/Paris:20260428T203000
DTSTAMP:20260311T210024Z
URL:https://bananierbleu.fr/concerts-test/andre-villeger-alain-jean-marie/
SUMMARY:André Villéger & Alain Jean-Marie - New Morning - 28 Avr 26 20:30
DESCRIPTION:\n 	Personnel : Alain Jean-Marie (piano)\, André Villéger (sa
 xophone)\, Antoine Paganotti (batterie)\, Thomas Bramerie (contrebasse)\n 
 	Présentation : Célébration des 80 ans des deux sommités du jazz fran
 çais\, André Villéger et Alain Jean-Marie\, sur la scène du New Mornin
 g. Leur répertoire inclut des compositions personnelles et des titres de 
 leurs derniers albums communs\, accompagnés de Thomas Bramerie et Antoine
  Paganotti.\n
ATTACH;FMTTYPE=image/jpeg:https://bananierbleu.fr/wp-content/uploads/2026/
 03/VIlleger_Jean-Marie.jpg
CATEGORIES:Concerts en France
LOCATION:New Morning\, 7-9 rue des Petites Ecuries\, Paris\, Île de France
 \, 75010\, IleDeFrance\, France
GEO:48.8732;2.35323
X-APPLE-STRUCTURED-LOCATION;VALUE=URI;X-ADDRESS=7-9 rue des Petites Ecuries
 \, Paris\, Île de France\, 75010\, IleDeFrance\, France;X-APPLE-RADIUS=10
 0;X-TITLE=New Morning:geo:48.8732,2.35323
END:VEVENT
BEGIN:VTIMEZONE
TZID:Europe/Paris
X-LIC-LOCATION:Europe/Paris
BEGIN:DAYLIGHT
DTSTART:20260329T030000
TZOFFSETFROM:+0100
TZOFFSETTO:+0200
TZNAME:CEST
END:DAYLIGHT
END:VTIMEZONE
END:VCALENDAR