BEGIN:VCALENDAR
VERSION:2.0
PRODID:-//wp-events-plugin.com//7.2.3.1//EN
TZID:Europe/Paris
X-WR-TIMEZONE:Europe/Paris
BEGIN:VEVENT
UID:152@bananierbleu.fr
DTSTART;TZID=Europe/Paris:20120505T210000
DTEND;TZID=Europe/Paris:20120505T233000
DTSTAMP:20120324T173030Z
URL:https://bananierbleu.fr/concerts-test/anergy-afrobeat-invite-les-afrob
 eat-all-stars/
SUMMARY:ANerGy Afrobeat invite les Afrobeat All Stars - le Petit Bain - 5 M
 ai 12 21:00
DESCRIPTION:AFROBEAT POSITIVE VIBRATIONS !\n\nANerGy Afrobeat invite les Af
 robeat All Stars : CHEICK TIDIANE SECK\, KIALA\, CHIEF UDOH…\nSamedi 5 M
 ai 2012 de 21h à 02h au Petit Bain\n\nL’Afrobeat est une force culturel
 le et artistique\, une synthèse des valeurs d’Afrique et de la diaspora
 . Il est le prolongement chaloupé du highlife\, du free jazz et du funk f
 urieux. Mais\, il est avant tout\, une machine dansante et consciente !\n\
 nANerGy Afrobeat Band / Raviver la flamme Afrobeat !\nANerGy Afrobeat dist
 ille un son propre qui s’apparente à une identité et une réappropriat
 ion de l’Afrobeat. Visiter le territoire fascinant de rythmes\, d'esprit
  et de magie\, qu’a légué Fela\, tisser un lien organique entre les ra
 cines de l’Afrobeat et le\ncontexte actuel\, ANerGy voyage librement\, e
 n mélangeant les accords parfaits du français\, du yoruba et du créole.
 \nSon Opus trois titres\, fraîchement publié\, sonne déjà comme un éc
 lat de sensations\ndans cet univers que Miles Davis qualifie comme l’un 
 des grands courants musicaux du futur. Entouré des maîtres-ambassadeurs 
 de l’Afrobeat\, la scène Afrobeat sera plus que jamais electrique !\nww
 w.myspace.com/angafrobeat\n\nDJ NESS : Afrobeat\, highlife\, afro funk et 
 electro-jazz...\nwww.myspace.com/nessmanagement\n\nAFROBEAT NO LIMIT\nwww.
 afrobeatnolimit.com\nwww.myspace.com/afrobeatnolimit\n\nPETIT BAIN\n7\, Po
 rt de la Gare 75013 Paris\nMétro : Quai de la Gare - Bibliothèque Franç
 ois Mitterrand\nwww.petitbain.org\n\nTarifs : 13€ en prévente sur Digit
 ick et Fnac\, 17 € sur place.\n\nhttp://www.digitick.com/afrobeat-positi
 ve-vibrations-concert-le-petit-bain-paris-05-mai-2012-css4-digitick-pg101-
 ri1212007.html
CATEGORIES:Concerts en France
LOCATION:le Petit Bain\, 7\, port de la Gare\, Paris\, 75013\, Ile de Franc
 e\, France
GEO:48.8348;2.37712
X-APPLE-STRUCTURED-LOCATION;VALUE=URI;X-ADDRESS=7\, port de la Gare\, Paris
 \, 75013\, Ile de France\, France;X-APPLE-RADIUS=100;X-TITLE=le Petit Bain
 :geo:48.8348,2.37712
END:VEVENT
BEGIN:VTIMEZONE
TZID:Europe/Paris
X-LIC-LOCATION:Europe/Paris
BEGIN:DAYLIGHT
DTSTART:20120325T030000
TZOFFSETFROM:+0100
TZOFFSETTO:+0200
TZNAME:CEST
END:DAYLIGHT
END:VTIMEZONE
END:VCALENDAR