BEGIN:VCALENDAR
VERSION:2.0
PRODID:-//wp-events-plugin.com//7.2.3.1//EN
TZID:Europe/Paris
X-WR-TIMEZONE:Europe/Paris
BEGIN:VEVENT
UID:4120@bananierbleu.fr
DTSTART;TZID=Europe/Paris:20260624T203000
DTEND;TZID=Europe/Paris:20260624T203000
DTSTAMP:20260421T085257Z
URL:https://bananierbleu.fr/concerts-test/anthony-joseph-5/
SUMMARY:Anthony Joseph - New Morning - 24 Juin 26 20:30
DESCRIPTION:\n 	Personnel : Andrew John (basse)\, Anthony Joseph (voix)\, D
 avid Bitan (batterie)\, Jason Yarde (machines\, saxophone)\, Nick Ramm (cl
 aviers)\n 	Présentation : Anthony Joseph présente son dixième album\, 
 « The Ark »\, une exploration approfondie de l'afrofuturisme\, produit p
 ar Dave Okumu. Ce projet mêle spoken word\, afrobeat\, jazz et influences
  électroniques\, salué pour sa profondeur et son innovation. Le concert 
 promet une performance riche\, entre déclamations poétiques et grooves a
 fro-soul\, avec des collaborations marquantes (Tom Skinner\, Eska\, Byron 
 Wallen).\n
ATTACH;FMTTYPE=image/jpeg:https://bananierbleu.fr/wp-content/uploads/2026/
 04/anhony_joseph_the_ark.jpg
CATEGORIES:Concerts en France
LOCATION:New Morning\, 7-9 rue des Petites Ecuries\, Paris\, Île de France
 \, 75010\, IleDeFrance\, France
GEO:48.8732;2.35323
X-APPLE-STRUCTURED-LOCATION;VALUE=URI;X-ADDRESS=7-9 rue des Petites Ecuries
 \, Paris\, Île de France\, 75010\, IleDeFrance\, France;X-APPLE-RADIUS=10
 0;X-TITLE=New Morning:geo:48.8732,2.35323
END:VEVENT
BEGIN:VTIMEZONE
TZID:Europe/Paris
X-LIC-LOCATION:Europe/Paris
BEGIN:DAYLIGHT
DTSTART:20260329T030000
TZOFFSETFROM:+0100
TZOFFSETTO:+0200
TZNAME:CEST
END:DAYLIGHT
END:VTIMEZONE
END:VCALENDAR