BEGIN:VCALENDAR
VERSION:2.0
PRODID:-//wp-events-plugin.com//7.2.3.1//EN
TZID:Europe/Paris
X-WR-TIMEZONE:Europe/Paris
BEGIN:VEVENT
UID:391@bananierbleu.fr
DTSTART;TZID=Europe/Paris:20130223T233000
DTEND;TZID=Europe/Paris:20130223T233000
DTSTAMP:20130120T131914Z
URL:https://bananierbleu.fr/concerts-test/arnaud-dolmen-5tet/
SUMMARY:Arnaud Dolmen 5tet - le Baiser Salé - 23 Fév 13 23:30
DESCRIPTION:Arnaud Dolmen batt\, Jonathan Jurion pno\, Damian Nueva bss\,\n
 Ralph Lavital guit\, Sylvain Joseph sax.\nInitié à la musique très jeun
 e\, Arnaud Dolmen découvre sa passion auprès du père du Gwo-Ka moderne\
 , George Troupé\, Il participe à de nombreuses collaborations avec notam
 ment Jacques Schwarz-Bart\, Kimbol Group\, Alain Jean-Marie\, Thierry Fanf
 an\, Dans la bonne humeur\, il refait découvrir avec ses acolytes\, un r
 épertoire jazz mêlé de salsa et de musique caribéenne\,
CATEGORIES:Concerts en France
LOCATION:le Baiser Salé\, 58\, rue des Lombards\, Paris\, Île de France\,
  75001\, IleDeFrance\, France
GEO:48.8598;2.34791
X-APPLE-STRUCTURED-LOCATION;VALUE=URI;X-ADDRESS=58\, rue des Lombards\, Par
 is\, Île de France\, 75001\, IleDeFrance\, France;X-APPLE-RADIUS=100;X-TI
 TLE=le Baiser Salé:geo:48.8598,2.34791
END:VEVENT
BEGIN:VTIMEZONE
TZID:Europe/Paris
X-LIC-LOCATION:Europe/Paris
BEGIN:STANDARD
DTSTART:20121028T020000
TZOFFSETFROM:+0200
TZOFFSETTO:+0100
TZNAME:CET
END:STANDARD
END:VTIMEZONE
END:VCALENDAR