BEGIN:VCALENDAR
VERSION:2.0
PRODID:-//wp-events-plugin.com//7.2.3.1//EN
TZID:Europe/Paris
X-WR-TIMEZONE:Europe/Paris
BEGIN:VEVENT
UID:3829@bananierbleu.fr
DTSTART;TZID=Europe/Paris:20240911T193000
DTEND;TZID=Europe/Paris:20240911T193000
DTSTAMP:20240725T083805Z
URL:https://bananierbleu.fr/concerts-test/arnaud-dolmen-leonardo-montana-l
 art-du-duo-les-70-ans-de-jazz-magazine/
SUMMARY:Arnaud Dolmen & Leonardo Montana L'art du duo - Les 70 ans de Jazz 
 Magazine - Sunside - 11 Sep 24 19:30
DESCRIPTION:\n\nVenez découvrir en live « LéNo »\, le nouvel album d
 ’Arnaud Dolmen. Nommé aux Victoires du Jazz 2024\, Révélation aux Vic
 toires du Jazz 2022\, finaliste du prix Django Reinhardt de l’Académie 
 du jazz 20 23\, Top 3 des meilleurs batteurs de France\, le phénoménal b
 atteur &amp\; compositeur guadeloupéen revient dans une formation inédit
 e : duo avec le brillant pianiste brésilien Leonardo Montana. Plongez dan
 s un ailleurs onirique avec ces deux explorateurs audacieux et virtuoses a
 ux inspirations multiples !\n\n 	« Très beau\, très rare duo » Le Mo
 nde\n 	« Merveilleux disque » Franceinfo\n 	« Un album envoûtant 
 » France Musique\n 	« L’un des grands disques de 2024 » CHOC Jazz M
 agazine\n\n
ATTACH;FMTTYPE=image/jpeg:https://bananierbleu.fr/wp-content/uploads/2024/
 07/ARNAUD-DOLMEN-format-carre-700x700-c-default.jpg
CATEGORIES:Concerts en France
LOCATION:Sunside\, 60\, rue des Lombards\, Paris\, Île de France\, 75001\,
  IleDeFrance\, France
GEO:48.859937;2.347751
X-APPLE-STRUCTURED-LOCATION;VALUE=URI;X-ADDRESS=60\, rue des Lombards\, Par
 is\, Île de France\, 75001\, IleDeFrance\, France;X-APPLE-RADIUS=100;X-TI
 TLE=Sunside:geo:48.859937,2.347751
END:VEVENT
BEGIN:VTIMEZONE
TZID:Europe/Paris
X-LIC-LOCATION:Europe/Paris
BEGIN:DAYLIGHT
DTSTART:20240331T030000
TZOFFSETFROM:+0100
TZOFFSETTO:+0200
TZNAME:CEST
END:DAYLIGHT
END:VTIMEZONE
END:VCALENDAR