BEGIN:VCALENDAR
VERSION:2.0
PRODID:-//wp-events-plugin.com//7.2.3.1//EN
TZID:Europe/Paris
X-WR-TIMEZONE:Europe/Paris
BEGIN:VEVENT
UID:1761@bananierbleu.fr
DTSTART;TZID=Europe/Paris:20160525T203000
DTEND;TZID=Europe/Paris:20160525T203000
DTSTAMP:20160504T094532Z
URL:https://bananierbleu.fr/concerts-test/arnaud-dolmen-quartet-5/
SUMMARY:Arnaud Dolmen quartet - Sunside - 25 Mai 16 20:30
DESCRIPTION:Christophe Panzani – sax \; Leonardo Montana – piano \; Joa
 chim Govin – c.basse \; Arnaud Dolmen – batterie\n\n\nArnaud Dolmen Q
 uartet se produira pour la 1ère fois au Sunside. Sous le jeu aéré et dy
 namique de son chef d’orchestre\, Arnaud\, la musique du Quartet évolue
  autour d’un jazz moderne mélangé à la polyrythmie du Gwoka\, musique
  traditionnelle de la Guadeloupe. En effet\, le batteur éclectique\, puis
 e son inspiration et son originalité mélodieuse à travers sa culture et
  ses nombreuses collaborations : de Laurent De Wilde\, à Jacques Schwarz-
 Bart\, Mario Canonge ou encore Jasser Haj Youssef. En clair\, la musique i
 ncisive et envoûtante du Arnaud Dolmen Quartet vous emportera sans effort
 . Soyez prêts pour cette aventure inédite!   \nArnaud Dolmen presents 
 his new project as a leader. His music is a modern jazz inspired by his Ca
 ribbean origins... be ready for the adventure !\n\n
CATEGORIES:Concerts en France
LOCATION:Sunside\, 60\, rue des Lombards\, Paris\, Île de France\, 75001\,
  IleDeFrance\, France
GEO:48.859937;2.347751
X-APPLE-STRUCTURED-LOCATION;VALUE=URI;X-ADDRESS=60\, rue des Lombards\, Par
 is\, Île de France\, 75001\, IleDeFrance\, France;X-APPLE-RADIUS=100;X-TI
 TLE=Sunside:geo:48.859937,2.347751
END:VEVENT
BEGIN:VTIMEZONE
TZID:Europe/Paris
X-LIC-LOCATION:Europe/Paris
BEGIN:DAYLIGHT
DTSTART:20160327T030000
TZOFFSETFROM:+0100
TZOFFSETTO:+0200
TZNAME:CEST
END:DAYLIGHT
END:VTIMEZONE
END:VCALENDAR