BEGIN:VCALENDAR
VERSION:2.0
PRODID:-//wp-events-plugin.com//7.2.3.1//EN
TZID:Europe/Paris
X-WR-TIMEZONE:Europe/Paris
BEGIN:VEVENT
UID:350@bananierbleu.fr
DTSTART;TZID=Europe/Paris:20121205T210000
DTEND;TZID=Europe/Paris:20121205T223000
DTSTAMP:20121202T183600Z
URL:https://bananierbleu.fr/concerts-test/artefact-trio-2/
SUMMARY:Artefact trio - La Vague Rouge - 5 Déc 12 21:00
DESCRIPTION:Dans le cadre des mercredis live\, la Vague Rouge reçoit le gr
 oupe ARTEFACT (Raymond Grégo\, Alex Jabot et Marc Jalet). Un excellent mo
 ment de musique en perspective. Entrée: 10€
CATEGORIES:Concerts en Guadeloupe
LOCATION:La Vague Rouge\, Montauban\, Le Gosier\, Guadeloupe\, 97190\, Guad
 eloupe\, Guadeloupe
GEO:16.2122042;-61.499644699999976
X-APPLE-STRUCTURED-LOCATION;VALUE=URI;X-ADDRESS=Montauban\, Le Gosier\, Gua
 deloupe\, 97190\, Guadeloupe\, Guadeloupe;X-APPLE-RADIUS=100;X-TITLE=La Va
 gue Rouge:geo:16.2122042,-61.499644699999976
END:VEVENT
BEGIN:VTIMEZONE
TZID:Europe/Paris
X-LIC-LOCATION:Europe/Paris
BEGIN:STANDARD
DTSTART:20121028T020000
TZOFFSETFROM:+0200
TZOFFSETTO:+0100
TZNAME:CET
END:STANDARD
END:VTIMEZONE
END:VCALENDAR