BEGIN:VCALENDAR
VERSION:2.0
PRODID:-//wp-events-plugin.com//7.2.3.1//EN
TZID:Europe/Paris
X-WR-TIMEZONE:Europe/Paris
BEGIN:VEVENT
UID:256@bananierbleu.fr
DTSTART;TZID=Europe/Paris:20120714T210000
DTEND;TZID=Europe/Paris:20120714T233000
DTSTAMP:20120624T154854Z
URL:https://bananierbleu.fr/concerts-test/aruan-ortiz-lukmil-perez-darryl-
 hall/
SUMMARY:Aruan Ortiz  / Lukmil Perez / Darryl Hall -  - 14 Juil 12 21:00
DESCRIPTION:Aruan Ortiz – piano \; Lukmil Perez – batterie \; Darryl  H
 all – c.basse\nPianiste cubain entendu aux côtés de Esperanza Spalding
 \, Wallace Roney\, Greg Osby\, El Negro\, Cindy Blackman... Il vient d’e
 nregistrer pour le label espagnol Fresh sound son troisième album sous so
 n nom. Epaulé par une rythmique de grande maturité\, on sent dans son je
 u et sa technique l’âme de ses maitres : Chucho Valdes\, Bud Powell\, M
 onk... De la Havane à New-York\, le jazz métissé.
CATEGORIES:Concerts en France
LOCATION:\, \, 
X-APPLE-STRUCTURED-LOCATION;VALUE=URI;X-ADDRESS=\, ;X-APPLE-RADIUS=100;X-TI
 TLE=:geo:0,0
END:VEVENT
BEGIN:VTIMEZONE
TZID:Europe/Paris
X-LIC-LOCATION:Europe/Paris
BEGIN:DAYLIGHT
DTSTART:20120325T030000
TZOFFSETFROM:+0100
TZOFFSETTO:+0200
TZNAME:CEST
END:DAYLIGHT
END:VTIMEZONE
END:VCALENDAR