BEGIN:VCALENDAR
VERSION:2.0
PRODID:-//wp-events-plugin.com//7.2.3.1//EN
TZID:Europe/Paris
X-WR-TIMEZONE:Europe/Paris
BEGIN:VEVENT
UID:2542@bananierbleu.fr
DTSTART;TZID=Europe/Paris:20180315T203000
DTEND;TZID=Europe/Paris:20180315T203000
DTSTAMP:20180308T112828Z
URL:https://bananierbleu.fr/concerts-test/astrio/
SUMMARY:Astrio - La Créole Jazz Club - 15 Mar 18 20:30
DESCRIPTION:La Créole Jazz Club accueille Patrick Gueppoid et son quartet 
 Astrio. Venez découvrir un répertoire vocal\, entre Jazz (Ray Charles\, 
 Franck Sinatra\, Nina Simone\, Billy Paul)\, Pop (Beatles\, Kéziah Jones\
 , Seal)\, Bossa (Gilberto Gil\, Henri Salvador\, Tom Jobim) et musique car
 ibéenne (Patrick St Éloi\, Dominique Panol\, Black Affairs).\n\nPatrick 
 Guépoids (guitare\, chant)\nHarry Bernard (claviers)\nDaniel Matthieu (ba
 tterie)\nJoël Taret (basse)
ATTACH;FMTTYPE=image/jpeg:https://bananierbleu.fr/wp-content/uploads/2018/
 03/28577389_1732034723526421_8651741218998305043_n.jpg
CATEGORIES:Concerts en Guadeloupe
LOCATION:La Créole Jazz Club\, Pointe de la Verdure\, Le Gosier\, Guadelou
 pe\, 97190\, Guadeloupe\, Guadeloupe
GEO:16.206832;-61.50359980000002
X-APPLE-STRUCTURED-LOCATION;VALUE=URI;X-ADDRESS=Pointe de la Verdure\, Le G
 osier\, Guadeloupe\, 97190\, Guadeloupe\, Guadeloupe;X-APPLE-RADIUS=100;X-
 TITLE=La Créole Jazz Club:geo:16.206832,-61.50359980000002
END:VEVENT
BEGIN:VTIMEZONE
TZID:Europe/Paris
X-LIC-LOCATION:Europe/Paris
BEGIN:STANDARD
DTSTART:20171029T020000
TZOFFSETFROM:+0200
TZOFFSETTO:+0100
TZNAME:CET
END:STANDARD
END:VTIMEZONE
END:VCALENDAR