BEGIN:VCALENDAR
VERSION:2.0
PRODID:-//wp-events-plugin.com//7.2.3.1//EN
TZID:Europe/Paris
X-WR-TIMEZONE:Europe/Paris
BEGIN:VEVENT
UID:609@bananierbleu.fr
DTSTART;TZID=Europe/Paris:20130925T213000
DTEND;TZID=Europe/Paris:20130925T213000
DTSTAMP:20130907T094341Z
URL:https://bananierbleu.fr/concerts-test/bastien-picot/
SUMMARY:Bastien Picot - le Baiser Salé - 25 Sep 13 21:30
DESCRIPTION:Alexis Gary guitare\, Bastien Picot voix + Guests\nEn résidenc
 e jusqu’en été 2014 tous les deniers mercredis de chaque mois ! Coup d
 e projecteur sur Bastien PICOT. Ce chanteur d'origine réunionnaise a su f
 aire de sa voix un enchantement. Soyez les bienvenus dans son univers mét
 issé\, teinté de Soul\, de Jazz\, de Pop et parfois de Maloya. On attend
  avec impatience la sortie de son 1er Album "Pieces of a Man" prévu pour 
 fin 2013 ! Une soirée sous le signe de la SOUL MUSIC 
CATEGORIES:Concerts en France
LOCATION:le Baiser Salé\, 58\, rue des Lombards\, Paris\, Île de France\,
  75001\, IleDeFrance\, France
GEO:48.8598;2.34791
X-APPLE-STRUCTURED-LOCATION;VALUE=URI;X-ADDRESS=58\, rue des Lombards\, Par
 is\, Île de France\, 75001\, IleDeFrance\, France;X-APPLE-RADIUS=100;X-TI
 TLE=le Baiser Salé:geo:48.8598,2.34791
END:VEVENT
BEGIN:VTIMEZONE
TZID:Europe/Paris
X-LIC-LOCATION:Europe/Paris
BEGIN:DAYLIGHT
DTSTART:20130331T030000
TZOFFSETFROM:+0100
TZOFFSETTO:+0200
TZNAME:CEST
END:DAYLIGHT
END:VTIMEZONE
END:VCALENDAR