BEGIN:VCALENDAR
VERSION:2.0
PRODID:-//wp-events-plugin.com//7.2.3.1//EN
TZID:Europe/Paris
X-WR-TIMEZONE:Europe/Paris
BEGIN:VEVENT
UID:2153@bananierbleu.fr
DTSTART;TZID=Europe/Paris:20170323T200000
DTEND;TZID=Europe/Paris:20170323T200000
DTSTAMP:20170316T130127Z
URL:https://bananierbleu.fr/concerts-test/beethova-obas/
SUMMARY:Beethova Obas - l'Arobase - Casino Batelière - 23 Mar 17 20:00
DESCRIPTION:Un des auteurs-compositeurs les plus doués et les plus inspir
 és de sa génération\, &nbsp\;Beethova Obas entouré de musiciens de tal
 ent tels que José PRIVAT\, Jean-Marc ALBICY\, José ZEBINA &nbsp\;vous en
 traînera dans un savant mélange de&nbsp\;jazz créole\, musique des rues
  haïtiennes et bossa nova\, une musique fluide et sensuelle à savourer s
 ans modération.\n\n 	JEUDI 23 MARS à 20H à l'Arobase\n 	Infoline : 0696
 .358.340 L’AROBASE – CASINO BATELIERE-PLAZZA\n 	Suivez l'ArObase sur i
 nstagram :&nbsp\;https://goo.gl/oACR3h\n 	Suivez l'ArObase sur twitter :&n
 bsp\;https://goo.gl/YwA8a1\n 	Suivez l'ArObase sur :&nbsp\;http://www.casi
 nobateliereplazza.com\n 	Prix : 20 €\n
ATTACH;FMTTYPE=image/jpeg:https://bananierbleu.fr/wp-content/uploads/2017/
 03/Bandeau-facebook-VISUEL-SEUL-13-ET-14-OCTOBRE.jpg
CATEGORIES:Concerts en Martinique
LOCATION:l'Arobase - Casino Batelière\, route Alizés\, Schoelcher\, Marti
 nique\, 97233\, Martinique\, Martinique
GEO:14.605021;-61.09400800000003
X-APPLE-STRUCTURED-LOCATION;VALUE=URI;X-ADDRESS=route Alizés\, Schoelcher\
 , Martinique\, 97233\, Martinique\, Martinique;X-APPLE-RADIUS=100;X-TITLE=
 l'Arobase - Casino Batelière:geo:14.605021,-61.09400800000003
END:VEVENT
BEGIN:VTIMEZONE
TZID:Europe/Paris
X-LIC-LOCATION:Europe/Paris
BEGIN:STANDARD
DTSTART:20161030T020000
TZOFFSETFROM:+0200
TZOFFSETTO:+0100
TZNAME:CET
END:STANDARD
END:VTIMEZONE
END:VCALENDAR