BEGIN:VCALENDAR
VERSION:2.0
PRODID:-//wp-events-plugin.com//7.2.3.1//EN
TZID:Europe/Paris
X-WR-TIMEZONE:Europe/Paris
BEGIN:VEVENT
UID:478@bananierbleu.fr
DTSTART;TZID=Europe/Paris:20130503T193000
DTEND;TZID=Europe/Paris:20130503T193000
DTSTAMP:20130410T142132Z
URL:https://bananierbleu.fr/concerts-test/belya/
SUMMARY:Bélya - l'Atrium Martinique - 3 Mai 13 19:30
DESCRIPTION:\nUn voyage à travers la musique\, la danse et les couleurs.\n
 \nUne vingtaine d'artistes sur scène.\n\nAprés le New Mornig et avant d'
 aller porter le son au pays du soleil levant\, Bélya vous donne rendez-vo
 us pour un concert anniversaire ( 15 ans de résistance culturelle)\n\nUn 
 spectacle qui vous entraînera du bout petit matin à la magie phosphoresc
 ente des bêtes à feu du soir naissant.\nMise en scène : Daniély Franci
 sque\n\nIngénieur du son : Yvan Brard\n\nChorégraphie: Robert Régina\n\
 nDécor : Mariz Bolnet\n\nInfoline: CMAC : 0596 60 78 78\nBELYA : 0596 52 
 12 67 / 0696 43 74 69 /0696 095 951
CATEGORIES:Concerts en Martinique
LOCATION:l'Atrium Martinique\, 6 rue Jacques Cazotte\, Fort de France\, Mar
 tinique\, 97200\, Martinique\, Martinique
GEO:14.605426;-61.0660431
X-APPLE-STRUCTURED-LOCATION;VALUE=URI;X-ADDRESS=6 rue Jacques Cazotte\, For
 t de France\, Martinique\, 97200\, Martinique\, Martinique;X-APPLE-RADIUS=
 100;X-TITLE=l'Atrium Martinique:geo:14.605426,-61.0660431
END:VEVENT
BEGIN:VTIMEZONE
TZID:Europe/Paris
X-LIC-LOCATION:Europe/Paris
BEGIN:DAYLIGHT
DTSTART:20130331T030000
TZOFFSETFROM:+0100
TZOFFSETTO:+0200
TZNAME:CEST
END:DAYLIGHT
END:VTIMEZONE
END:VCALENDAR