BEGIN:VCALENDAR
VERSION:2.0
PRODID:-//wp-events-plugin.com//7.2.3.1//EN
TZID:Europe/Paris
X-WR-TIMEZONE:Europe/Paris
BEGIN:VEVENT
UID:595@bananierbleu.fr
DTSTART;TZID=Europe/Paris:20130814T193000
DTEND;TZID=Europe/Paris:20130814T193000
DTSTAMP:20130811T154934Z
URL:https://bananierbleu.fr/concerts-test/berose-bernard-bougrainville-big
 uine-jazz/
SUMMARY:Bérose / Bernard / Bougrainville @ Biguine Jazz - Hôtel Batelièr
 e - 14 Août 13 19:30
DESCRIPTION:Dominique Bérose (pno)\, Alex Bernard (b & cb)\, Dominique Bou
 grainville (dms) invitent Joëlle Viellet\, Luc labonne\, Loriane Zacharie
 \, Valérie Golvet\, Max Télèphe\, Pipo Gertrude et Mano Césaire pour l
 a soirée de clôture du festival Biguine Jazz 2013\, en "Hommage aux pré
 curseurs".
CATEGORIES:Concerts en Martinique
LOCATION:Hôtel Batelière\,  20 Résidence les Alizés de Batelière\, Sch
 oelcher\, Martinique\, 97233\, Martinique\, Martinique
GEO:14.605021;-61.09400800000003
X-APPLE-STRUCTURED-LOCATION;VALUE=URI;X-ADDRESS= 20 Résidence les Alizés 
 de Batelière\, Schoelcher\, Martinique\, 97233\, Martinique\, Martinique;
 X-APPLE-RADIUS=100;X-TITLE=Hôtel Batelière:geo:14.605021,-61.09400800000
 003
END:VEVENT
BEGIN:VTIMEZONE
TZID:Europe/Paris
X-LIC-LOCATION:Europe/Paris
BEGIN:DAYLIGHT
DTSTART:20130331T030000
TZOFFSETFROM:+0100
TZOFFSETTO:+0200
TZNAME:CEST
END:DAYLIGHT
END:VTIMEZONE
END:VCALENDAR