BEGIN:VCALENDAR
VERSION:2.0
PRODID:-//wp-events-plugin.com//7.2.3.1//EN
TZID:Europe/Paris
X-WR-TIMEZONE:Europe/Paris
BEGIN:VEVENT
UID:4055@bananierbleu.fr
DTSTART;TZID=Europe/Paris:20260122T200000
DTEND;TZID=Europe/Paris:20260122T200000
DTSTAMP:20251126T135255Z
URL:https://bananierbleu.fr/concerts-test/biguine-extension-les-concerts-j
 azz-magazine/
SUMMARY:Biguine Extension – Les Concerts Jazz Magazine - le Bal Blomet - 
 22 Jan 26 20:00
DESCRIPTION:Elvin Bironien / Ralph Lavital / Adriano Tenorio\n\nEntre tradi
 tion et modernité\, ce concert met en valeur l’héritage de la biguine\
 , par des musiciens incontournables de la scène jazz parisienne.
ATTACH;FMTTYPE=image/jpeg:https://bananierbleu.fr/wp-content/uploads/2025/
 08/web_COVER-hd-Biguine-Extension.jpg
LOCATION:le Bal Blomet\, 33 rue Blomet\, Paris\, Île de France\, 75015\, I
 leDeFrance\, France
GEO:48.8426312;2.3061755999999605
X-APPLE-STRUCTURED-LOCATION;VALUE=URI;X-ADDRESS=33 rue Blomet\, Paris\, Îl
 e de France\, 75015\, IleDeFrance\, France;X-APPLE-RADIUS=100;X-TITLE=le B
 al Blomet:geo:48.8426312,2.3061755999999605
END:VEVENT
BEGIN:VTIMEZONE
TZID:Europe/Paris
X-LIC-LOCATION:Europe/Paris
BEGIN:STANDARD
DTSTART:20251026T020000
TZOFFSETFROM:+0200
TZOFFSETTO:+0100
TZNAME:CET
END:STANDARD
END:VTIMEZONE
END:VCALENDAR