BEGIN:VCALENDAR
VERSION:2.0
PRODID:-//wp-events-plugin.com//7.2.3.1//EN
TZID:Europe/Paris
X-WR-TIMEZONE:Europe/Paris
BEGIN:VEVENT
UID:4095@bananierbleu.fr
DTSTART;TZID=Europe/Paris:20260310T193000
DTEND;TZID=Europe/Paris:20260310T193000
DTSTAMP:20260308T101844Z
URL:https://bananierbleu.fr/concerts-test/biguine-extension/
SUMMARY:Biguine Extension - 38Riv' - Jazz Club & Bar - 10 Mar 26 19:30
DESCRIPTION:\n 	Personnel : Adriano Dédé Tenorio (percussions)\, Elvin Bi
 ronien (basse)\, Ralph Lavital (guitare\, voix)\n 	Présentation : Biguine
  Extension\, trio né d’une résidence à Tropiques Atrium (Martinique\,
  2023-2024)\, revisite le répertoire de la biguine à travers des arrange
 ments actuels\, mêlant traditions caribéennes et jazz contemporain. Le c
 oncert met en valeur la vitalité et l’évolution de ce genre musical in
 tergénérationnel.\n
ATTACH;FMTTYPE=image/jpeg:https://bananierbleu.fr/wp-content/uploads/2026/
 03/biguine-extension-en-concert-au-38riv-jazz-club-822181-1200-0.webp
CATEGORIES:Concerts en France
LOCATION:38Riv' - Jazz Club & Bar\, 38\, rue de Rivoli\, Paris\, Île de Fr
 ance\, 75004\, IleDeFrance\, France
GEO:48.856461;2.356461
X-APPLE-STRUCTURED-LOCATION;VALUE=URI;X-ADDRESS=38\, rue de Rivoli\, Paris\
 , Île de France\, 75004\, IleDeFrance\, France;X-APPLE-RADIUS=100;X-TITLE
 =38Riv' - Jazz Club & Bar:geo:48.856461,2.356461
END:VEVENT
BEGIN:VTIMEZONE
TZID:Europe/Paris
X-LIC-LOCATION:Europe/Paris
BEGIN:STANDARD
DTSTART:20251026T020000
TZOFFSETFROM:+0200
TZOFFSETTO:+0100
TZNAME:CET
END:STANDARD
END:VTIMEZONE
END:VCALENDAR