BEGIN:VCALENDAR
VERSION:2.0
PRODID:-//wp-events-plugin.com//7.2.3.1//EN
TZID:Europe/Paris
X-WR-TIMEZONE:Europe/Paris
BEGIN:VEVENT
UID:1904@bananierbleu.fr
DTSTART;TZID=Europe/Paris:20160812T190000
DTEND;TZID=Europe/Paris:20160812T190000
DTSTAMP:20160802T122529Z
URL:https://bananierbleu.fr/concerts-test/biguine-jazz-otantik-jazz-creole
 -guy-guy-marc-vadeleux/
SUMMARY:[Biguine Jazz] O'tantik Jazz Creole - Guy & Guy-Marc Vadeleux - Par
 c des Floralies - 12 Août 16 19:00
DESCRIPTION:
ATTACH;FMTTYPE=image/jpeg:https://bananierbleu.fr/wp-content/uploads/2016/
 07/biguinejazz2016_200.jpg
CATEGORIES:Concerts en Martinique
LOCATION:Parc des Floralies\, Parc des Floralies\, Trois Ilets\, Martinique
 \, 97229\, Martinique\, Martinique
GEO:45.914362;-1.27847
X-APPLE-STRUCTURED-LOCATION;VALUE=URI;X-ADDRESS=Parc des Floralies\, Trois 
 Ilets\, Martinique\, 97229\, Martinique\, Martinique;X-APPLE-RADIUS=100;X-
 TITLE=Parc des Floralies:geo:45.914362,-1.27847
END:VEVENT
BEGIN:VTIMEZONE
TZID:Europe/Paris
X-LIC-LOCATION:Europe/Paris
BEGIN:DAYLIGHT
DTSTART:20160327T030000
TZOFFSETFROM:+0100
TZOFFSETTO:+0200
TZNAME:CEST
END:DAYLIGHT
END:VTIMEZONE
END:VCALENDAR