BEGIN:VCALENDAR
VERSION:2.0
PRODID:-//wp-events-plugin.com//7.2.3.1//EN
TZID:Europe/Paris
X-WR-TIMEZONE:Europe/Paris
BEGIN:VEVENT
UID:3710@bananierbleu.fr
DTSTART;TZID=Europe/Paris:20231119T190000
DTEND;TZID=Europe/Paris:20231119T190000
DTSTAMP:20231106T115414Z
URL:https://bananierbleu.fr/concerts-test/black-lives-from-generation-to-g
 eneration-2/
SUMMARY:Black Lives - From Generation To Generation - Café de la Danse - 1
 9 Nov 23 19:00
DESCRIPTION:Les compositeurs de BLACK LIVES viennent des États-Unis\, des 
 Caraïbes et d’Afrique \; leurs chansons s’inspirent de nombreuses inf
 luences et elles représentent un riche échantillon du nombre infini de f
 açons de concevoir l’existence des Noirs dans le monde. Mais au-delà d
 e cette variété\, ce qui les unit avant tout\, c’est le désir de lutt
 er pour l’égalité et la justice à travers la musique.\n\nIls sont con
 nus pour leur travail de leaders mais aussi pour leur collaboration avec d
 es artistes mondialement connus des années 60 à nos jours : Miles Davis\
 , D’Angelo\, Meshell Ndegéocello\, Salif Keita\, Marcus Miller\, Roy Ha
 rgrove\, Erykah Badu\, George Benson \, Terri Lyne Carrington\, Joe Zawinu
 l\, Maxwell\, Cassandra Wilson\, The Headhunters\, Wayne Shorter\, Esperan
 za Spalding et bien d’autres.\n\nLors des concerts live\, chaque artiste
  a la chance d’endosser deux rôles : celui d’un membre du groupe joua
 nt les compositions des autres et celui d’un leader lorsqu’il s’agit
  d’interpréter sa propre création. Tout le monde n’est pas sur scèn
 e en même temps\, sauf\npour le grand final.\n\nLes concerts live mettent
  en lumière la diversité des générations et des parcours musicaux de c
 es artistes. Ce qui frappe\, c’est l’aisance\, l’authenticité\, et 
 l’inspiration avec lesquelles les musiciens parcourent tous les horizons
  musicaux : jazz\, soul\, funk\, jazz-fusion des années 70\, musiques afr
 icaines\, rock\, blues et gospel… Tout est métissé et magnifié\, parf
 ois avec une folle intensité\, d’autres fois avec des nuances subtiles.
 \n\nLa musique est d’une qualité exceptionnelle et les solos impeccable
 s. Dans cette pléiade d’artistes de renom\, force est de constater que 
 les égos ont été mis de côté et que chaque talent singulier est au se
 rvice exclusif de la musique.\n\nC’est un concert plein de surprises\, a
 vec une énergie qui enflamme le public !\n\nLINE-UP :\n\n 	Reggie Washing
 ton\, basse\n 	Jacques Schwarz-Bart\, saxophone\n 	Pierrick Pédron\, saxo
 phone\n 	Grégory Privat\, piano\n 	Federico Gonzalez Peña\, clavier\n 	J
 ean-Paul Bourelly\, guitare &amp\; chant\n 	Adam Falcon\, guitare &amp\; c
 hant\n 	David Gilmore\, guitare\n 	Gene Lake\, batterie\n 	Marque Gilmore\
 , batterie &amp\; électroniques\n 	Sonny Troupé\, batterie\n 	Tutu Puoan
 e\, chant\n 	Christie Dashiell\, chant\n 	Sharrif Simmons\, spoken word\n 
 	Dj Grazzhoppa\, platines\n\nPremière partie : Hervé Samb Quartet\n\n 	H
 ervé Samb\, guitare\n 	Olivier Temime\, saxophone\n 	Reggie Washington\, 
 basses\n 	Sonny Troupé\, drums &amp\; ka\n
ATTACH;FMTTYPE=image/jpeg:https://bananierbleu.fr/wp-content/uploads/2022/
 11/Black_Lives-banner2.jpg
CATEGORIES:Concerts en France
LOCATION:Café de la Danse\, 5\, passage Louis-Philippe\, Paris\, Île de F
 rance\, 75011\, IleDeFrance\, France
GEO:48.8540691;2.3729025000000092
X-APPLE-STRUCTURED-LOCATION;VALUE=URI;X-ADDRESS=5\, passage Louis-Philippe\
 , Paris\, Île de France\, 75011\, IleDeFrance\, France;X-APPLE-RADIUS=100
 ;X-TITLE=Café de la Danse:geo:48.8540691,2.3729025000000092
END:VEVENT
BEGIN:VTIMEZONE
TZID:Europe/Paris
X-LIC-LOCATION:Europe/Paris
BEGIN:STANDARD
DTSTART:20231029T020000
TZOFFSETFROM:+0200
TZOFFSETTO:+0100
TZNAME:CET
END:STANDARD
END:VTIMEZONE
END:VCALENDAR