BEGIN:VCALENDAR
VERSION:2.0
PRODID:-//wp-events-plugin.com//7.2.3.1//EN
TZID:Europe/Paris
X-WR-TIMEZONE:Europe/Paris
BEGIN:VEVENT
UID:1771@bananierbleu.fr
DTSTART;TZID=Europe/Paris:20160508T123000
DTEND;TZID=Europe/Paris:20160508T163000
DTSTAMP:20160413T204247Z
URL:https://bananierbleu.fr/concerts-test/brunch-gospel-soul/
SUMMARY:Brunch Gospel &amp\; Soul - Le Viaduc Café - 8 Mai 16 12:30
DESCRIPTION:C'est reparti pour notre nouveau RDV du week end !\n\nUn moment
  convivial entre amis ou une pause gourmande\, faites de votre dimanche un
  délicieux moment saupoudré de Gospel et d'une session Open Mic !\nVous 
 souhaitez chanter? une solution : inscrivez-vous et envoyez nous votre tit
 re à maxymuz@free.fr*\n(*Répertoire Gospel et/ou Soul)\n\nVous avez 2 fo
 rmules au choix\, la Grande Ardoise "Coco" ou la Grande Ardoise "LNA".\n\n
 GRANDE ARDOISE " COCO"\nBoisson :\nBoissons chaudes au choix\nCafé\, thé
  ou chocolat\nJus d'Orange\nTartine\n\n+ Salade ThaÏ\n+ Assiette de Saumo
 n Fumé et son Blini\n+ Cappuccino fraise au Basilic\n\nOU\n\nGRANDE ARDOI
 SE " LNA"\nBoisson :\nBoissons chaudes au choix\nCafé\, thé ou chocolat\
 nJus d'Orange\nTartine\n\n+ Pressé Crabe\, Avocat\n+ Club Sandwich Poulet
 \, Frites Maison\n+ Salade de Fruits Frais\n\nATTENTION ! Réservation obl
 igatoire ! Places Limitées !\nTarif unique : 25€\n\nBilletterie en lign
 e : http://www.billetreduc.com/159689/evt.htm?nr=1
CATEGORIES:Concerts en France
LOCATION:Le Viaduc Café\, 43 avenue Daumesnil\, PARIS\, 75011\, France
GEO:48.847431;2.375053
X-APPLE-STRUCTURED-LOCATION;VALUE=URI;X-ADDRESS=43 avenue Daumesnil\, PARIS
 \, 75011\, France;X-APPLE-RADIUS=100;X-TITLE=Le Viaduc Café:geo:48.847431
 ,2.375053
END:VEVENT
BEGIN:VTIMEZONE
TZID:Europe/Paris
X-LIC-LOCATION:Europe/Paris
BEGIN:DAYLIGHT
DTSTART:20160327T030000
TZOFFSETFROM:+0100
TZOFFSETTO:+0200
TZNAME:CEST
END:DAYLIGHT
END:VTIMEZONE
END:VCALENDAR