BEGIN:VCALENDAR
VERSION:2.0
PRODID:-//wp-events-plugin.com//7.2.3.1//EN
TZID:Europe/Paris
X-WR-TIMEZONE:Europe/Paris
BEGIN:VEVENT
UID:2376@bananierbleu.fr
DTSTART;TZID=Europe/Paris:20171201T193000
DTEND;TZID=Europe/Paris:20171201T193000
DTSTAMP:20170919T150758Z
URL:https://bananierbleu.fr/concerts-test/cab-canonge-bassy-tenorio-2/
SUMMARY:CAB - Canonge / Bassy / Tenorio - la Meson - 1 Déc 17 19:30
DESCRIPTION:[Jazz sur la ville] Cab comme Caraïbes\, Afrique\, Brésil. Ma
 is aussi comme Canonge\, Adriano et Bassy. Le pianiste Mario Canonge\, don
 t la réputation n'est plus à faire\, nous fait découvrir son projet dan
 s lequel il fait se rencontrer diverses cultures musicales. Ce trio remarq
 uable donne un nouveau souffle au jazz...
ATTACH;FMTTYPE=image/jpeg:https://bananierbleu.fr/wp-content/uploads/2016/
 11/CAB_en-concert_BandsInTown.jpg
CATEGORIES:Concerts en France
LOCATION:la Meson\, 52 rue Consolat\, Marseille\, PACA\, 13001\, PACA\, Fra
 nce
GEO:43.3003448;5.3878208999999515
X-APPLE-STRUCTURED-LOCATION;VALUE=URI;X-ADDRESS=52 rue Consolat\, Marseille
 \, PACA\, 13001\, PACA\, France;X-APPLE-RADIUS=100;X-TITLE=la Meson:geo:43
 .3003448,5.3878208999999515
END:VEVENT
BEGIN:VTIMEZONE
TZID:Europe/Paris
X-LIC-LOCATION:Europe/Paris
BEGIN:STANDARD
DTSTART:20171029T020000
TZOFFSETFROM:+0200
TZOFFSETTO:+0100
TZNAME:CET
END:STANDARD
END:VTIMEZONE
END:VCALENDAR