BEGIN:VCALENDAR
VERSION:2.0
PRODID:-//wp-events-plugin.com//7.2.3.1//EN
TZID:Europe/Paris
X-WR-TIMEZONE:Europe/Paris
BEGIN:VEVENT
UID:605@bananierbleu.fr
DTSTART;TZID=Europe/Paris:20130918T193000
DTEND;TZID=Europe/Paris:20130918T193000
DTSTAMP:20130907T093902Z
URL:https://bananierbleu.fr/concerts-test/canonge-zenino-jazz-standards-2/
SUMMARY:Canonge / Zenino - jazz standards - le Baiser Salé - 18 Sep 13 19:
 30
DESCRIPTION:"Jazz standards" - Résidence\nMario Canonge piano\, Michel Zen
 ino contrebasse.\nComme d’habitude Mario Canonge et Michel Zenino qui in
 vestiront le Baiser Salé le mercredi soir. Leur complicité et sens de l
 ’improvisation nous donne à voir la rencontre inattendue entre deux mus
 iciens aux inspirations différentes et variées. Si vous avez de la chanc
 e vous les verrez partager avec leurs invités surprises.
CATEGORIES:Concerts en France
LOCATION:le Baiser Salé\, 58\, rue des Lombards\, Paris\, Île de France\,
  75001\, IleDeFrance\, France
GEO:48.8598;2.34791
X-APPLE-STRUCTURED-LOCATION;VALUE=URI;X-ADDRESS=58\, rue des Lombards\, Par
 is\, Île de France\, 75001\, IleDeFrance\, France;X-APPLE-RADIUS=100;X-TI
 TLE=le Baiser Salé:geo:48.8598,2.34791
END:VEVENT
BEGIN:VTIMEZONE
TZID:Europe/Paris
X-LIC-LOCATION:Europe/Paris
BEGIN:DAYLIGHT
DTSTART:20130331T030000
TZOFFSETFROM:+0100
TZOFFSETTO:+0200
TZNAME:CEST
END:DAYLIGHT
END:VTIMEZONE
END:VCALENDAR