BEGIN:VCALENDAR
VERSION:2.0
PRODID:-//wp-events-plugin.com//7.2.3.1//EN
TZID:Europe/Paris
X-WR-TIMEZONE:Europe/Paris
BEGIN:VEVENT
UID:1783@bananierbleu.fr
DTSTART;TZID=Europe/Paris:20160429T210000
DTEND;TZID=Europe/Paris:20160429T210000
DTSTAMP:20160420T163713Z
URL:https://bananierbleu.fr/concerts-test/cantinol-jean-marie-barry-montre
 don/
SUMMARY:Cantinol\, Jean-Marie\, Barry & Montredon - le Bab Ilo - 29 Avr 16 
 21:00
DESCRIPTION:Philippe Cantinol\, Alain Jean-Marie\, Charles-Amed Barry &amp\
 ; Jean-Claude Montredon en concert exceptionnel.
ATTACH;FMTTYPE=image/jpeg:https://bananierbleu.fr/wp-content/uploads/2016/
 04/13000090_977291209027331_7930400154218833247_n.jpg
CATEGORIES:Concerts en France
LOCATION:le Bab Ilo\, 9\, rue du Baigneur\, Paris\, Île de France\, 75018\
 , IleDeFrance\, France
GEO:48.89007669999999;2.344715400000041
X-APPLE-STRUCTURED-LOCATION;VALUE=URI;X-ADDRESS=9\, rue du Baigneur\, Paris
 \, Île de France\, 75018\, IleDeFrance\, France;X-APPLE-RADIUS=100;X-TITL
 E=le Bab Ilo:geo:48.89007669999999,2.344715400000041
END:VEVENT
BEGIN:VTIMEZONE
TZID:Europe/Paris
X-LIC-LOCATION:Europe/Paris
BEGIN:DAYLIGHT
DTSTART:20160327T030000
TZOFFSETFROM:+0100
TZOFFSETTO:+0200
TZNAME:CEST
END:DAYLIGHT
END:VTIMEZONE
END:VCALENDAR