BEGIN:VCALENDAR
VERSION:2.0
PRODID:-//wp-events-plugin.com//7.2.3.1//EN
TZID:Europe/Paris
X-WR-TIMEZONE:Europe/Paris
BEGIN:VEVENT
UID:3126@bananierbleu.fr
DTSTART;TZID=Europe/Paris:20200227T203000
DTEND;TZID=Europe/Paris:20200227T203000
DTSTAMP:20200221T164548Z
URL:https://bananierbleu.fr/concerts-test/caraibes-jazz-quartet-par-faby-m
 edina/
SUMMARY:Caraïbes Jazz Quartet par Faby Medina - Caves Legrand - 27 Fév 20
  20:30
DESCRIPTION:Next show in Paris !\n\n 	Faby Médina - vocals\n 	Sylvain Rans
 y - piano\n 	Zacharie Abraham - bass\n 	Xavier Quérou - sax\n\nSee you so
 on!
ATTACH;FMTTYPE=image/jpeg:https://bananierbleu.fr/wp-content/uploads/2020/
 02/87020522_10157498950517424_9162902616768774144_o.jpg
CATEGORIES:Concerts en France
LOCATION:Caves Legrand\, Galerie Vivienne - 1 Rue de la Banque\, Paris\, Il
 e de France\, 75002\, IleDeFrance\, France
X-APPLE-STRUCTURED-LOCATION;VALUE=URI;X-ADDRESS=Galerie Vivienne - 1 Rue de
  la Banque\, Paris\, Ile de France\, 75002\, IleDeFrance\, France;X-APPLE-
 RADIUS=100;X-TITLE=Caves Legrand:geo:0,0
END:VEVENT
BEGIN:VTIMEZONE
TZID:Europe/Paris
X-LIC-LOCATION:Europe/Paris
BEGIN:STANDARD
DTSTART:20191027T020000
TZOFFSETFROM:+0200
TZOFFSETTO:+0100
TZNAME:CET
END:STANDARD
END:VTIMEZONE
END:VCALENDAR