BEGIN:VCALENDAR
VERSION:2.0
PRODID:-//wp-events-plugin.com//7.2.3.1//EN
TZID:Europe/Paris
X-WR-TIMEZONE:Europe/Paris
BEGIN:VEVENT
UID:487@bananierbleu.fr
DTSTART;TZID=Europe/Paris:20130507T193000
DTEND;TZID=Europe/Paris:20130507T193000
DTSTAMP:20130418T125150Z
URL:https://bananierbleu.fr/concerts-test/caribeennes-de-mai-abraham/
SUMMARY:[Caribéennes de mai] - Cynthia Abraham - le Baiser Salé - 7 Mai 1
 3 19:30
DESCRIPTION:"Le Jazz De Demain"\nCYNTHIA ABRAHAM TRIO\nCynthia Abraham voix
 \, Antoine Brochot cbasse\,\nRalph Lavital guitare.\n6 cordes de guitare m
 élangées au jazz\, 4 cordes de contrebasse saupoudrées de soul et 2 cor
 des vocales marinées à la musique latine… C’est la recette du Cynthi
 a Abraham trio !
CATEGORIES:Concerts en France
LOCATION:le Baiser Salé\, 58\, rue des Lombards\, Paris\, Île de France\,
  75001\, IleDeFrance\, France
GEO:48.8598;2.34791
X-APPLE-STRUCTURED-LOCATION;VALUE=URI;X-ADDRESS=58\, rue des Lombards\, Par
 is\, Île de France\, 75001\, IleDeFrance\, France;X-APPLE-RADIUS=100;X-TI
 TLE=le Baiser Salé:geo:48.8598,2.34791
END:VEVENT
BEGIN:VTIMEZONE
TZID:Europe/Paris
X-LIC-LOCATION:Europe/Paris
BEGIN:DAYLIGHT
DTSTART:20130331T030000
TZOFFSETFROM:+0100
TZOFFSETTO:+0200
TZNAME:CEST
END:DAYLIGHT
END:VTIMEZONE
END:VCALENDAR