BEGIN:VCALENDAR
VERSION:2.0
PRODID:-//wp-events-plugin.com//7.2.3.1//EN
TZID:Europe/Paris
X-WR-TIMEZONE:Europe/Paris
BEGIN:VEVENT
UID:171@bananierbleu.fr
DTSTART;TZID=Europe/Paris:20120518T213000
DTEND;TZID=Europe/Paris:20120518T230000
DTSTAMP:20120404T133552Z
URL:https://bananierbleu.fr/concerts-test/caribeennes-de-mai-alain-jean-ma
 rie/
SUMMARY:[Caribéennes de mai]  Alain Jean-Marie - le Baiser Salé - 18 Mai 
 12 21:30
DESCRIPTION:Alain Jean Marie piano\, Eric Vincenot basse\, Jean-Claude Mont
 redon batterie.\nPersonnage paradoxal\, que l’on ne saurait réduire à 
 ses origines caribéennes\, il fait figure de mentor pour plusieurs \ngén
 érations de pianistes attachés à l’orthodoxie du jazz post-parkérien
 \, tout en suscitant l’adhésion de musiciens \naux esthétiques plus ou
 vertes tel Patrice Caratini. De ses débuts dans les bals de la Guadeloupe
  \n(au sein de l’orchestre de Robert Mavounzy) à la série des « Bigui
 ne Reflections » inaugurée en 1992\, \nil n’a jamais renié ses racine
 s et continue à servir les musiques du pays\, celles du guitariste \nAndr
 é Conduant\, du percussionniste Roger Raspail ou du saxophoniste Jocelyn 
 Ménard. \nIl est le musicien central du spectacle de Patrice Caratini « 
 Chofé Bigin La ». Franck BERGEROT – JAZZ MAGAZINE\n
CATEGORIES:Concerts en France
LOCATION:le Baiser Salé\, 58\, rue des Lombards\, Paris\, Île de France\,
  75001\, IleDeFrance\, France
GEO:48.8598;2.34791
X-APPLE-STRUCTURED-LOCATION;VALUE=URI;X-ADDRESS=58\, rue des Lombards\, Par
 is\, Île de France\, 75001\, IleDeFrance\, France;X-APPLE-RADIUS=100;X-TI
 TLE=le Baiser Salé:geo:48.8598,2.34791
END:VEVENT
BEGIN:VTIMEZONE
TZID:Europe/Paris
X-LIC-LOCATION:Europe/Paris
BEGIN:DAYLIGHT
DTSTART:20120325T030000
TZOFFSETFROM:+0100
TZOFFSETTO:+0200
TZNAME:CEST
END:DAYLIGHT
END:VTIMEZONE
END:VCALENDAR