BEGIN:VCALENDAR
VERSION:2.0
PRODID:-//wp-events-plugin.com//7.2.3.1//EN
TZID:Europe/Paris
X-WR-TIMEZONE:Europe/Paris
BEGIN:VEVENT
UID:178@bananierbleu.fr
DTSTART;TZID=Europe/Paris:20120526T233000
DTEND;TZID=Europe/Paris:20120527T030000
DTSTAMP:20120404T134730Z
URL:https://bananierbleu.fr/concerts-test/caribeennes-de-mai-arnaud-dolmen
 -trio2/
SUMMARY:[Caribéennes de mai] Arnaud Dolmen Trio2 - le Baiser Salé - 26 Ma
 i 12 23:30
DESCRIPTION:Arnaud Dolmen batt\, Jonathan Jurion piano\, Damian Nueva cbs \
 nUn créneau tardif pour laisser l’occasion à de nouveaux projets de vo
 ir le jour… A une heure où tout est permis\, ils viennent jouer encore 
 et encore pour expérimenter de nouveaux sons\, tester de nouvelles compos
 itions et vous accompagnent jusqu’au petit matin… \n
CATEGORIES:Concerts en France
LOCATION:le Baiser Salé\, 58\, rue des Lombards\, Paris\, Île de France\,
  75001\, IleDeFrance\, France
GEO:48.8598;2.34791
X-APPLE-STRUCTURED-LOCATION;VALUE=URI;X-ADDRESS=58\, rue des Lombards\, Par
 is\, Île de France\, 75001\, IleDeFrance\, France;X-APPLE-RADIUS=100;X-TI
 TLE=le Baiser Salé:geo:48.8598,2.34791
END:VEVENT
BEGIN:VTIMEZONE
TZID:Europe/Paris
X-LIC-LOCATION:Europe/Paris
BEGIN:DAYLIGHT
DTSTART:20120325T030000
TZOFFSETFROM:+0100
TZOFFSETTO:+0200
TZNAME:CEST
END:DAYLIGHT
END:VTIMEZONE
END:VCALENDAR