BEGIN:VCALENDAR
VERSION:2.0
PRODID:-//wp-events-plugin.com//7.2.3.1//EN
TZID:Europe/Paris
X-WR-TIMEZONE:Europe/Paris
BEGIN:VEVENT
UID:495@bananierbleu.fr
DTSTART;TZID=Europe/Paris:20130517T193000
DTEND;TZID=Europe/Paris:20130517T193000
DTSTAMP:20130418T130731Z
URL:https://bananierbleu.fr/concerts-test/caribeennes-de-mai-beauroy/
SUMMARY:[Caribéennes de mai] - Maher Beauroy trio - le Baiser Salé - 17 M
 ai 13 19:30
DESCRIPTION:"Jazz Caribéen"\nMAHER BEAUROY TRIO\nMaher Beauroy piano/voix\
 , Vladimir Torres c.basse/basse\,\nTiss Rodriguez batterie.\nIl suffit de 
 quelques notes\, à peine\, pour être convaincu du talent\, précoce s'il
  en est\, de Maher Beauroy. Son groove est on ne peut plus explicite. Il f
 aut avoir baigné dans la musique pour en extraire\, à un degré de féli
 cité telle\, la substantifique. La musique ne se dévoile qu'à ceux qui 
 le méritent. Maher Beauroy semble avoir trouvé juste cause à ses yeux. 
 On prendra donc un plaisir infini à redécouvrir ce nouveau prodige de la
  musique antillaise.
CATEGORIES:Concerts en France
LOCATION:le Baiser Salé\, 58\, rue des Lombards\, Paris\, Île de France\,
  75001\, IleDeFrance\, France
GEO:48.8598;2.34791
X-APPLE-STRUCTURED-LOCATION;VALUE=URI;X-ADDRESS=58\, rue des Lombards\, Par
 is\, Île de France\, 75001\, IleDeFrance\, France;X-APPLE-RADIUS=100;X-TI
 TLE=le Baiser Salé:geo:48.8598,2.34791
END:VEVENT
BEGIN:VTIMEZONE
TZID:Europe/Paris
X-LIC-LOCATION:Europe/Paris
BEGIN:DAYLIGHT
DTSTART:20130331T030000
TZOFFSETFROM:+0100
TZOFFSETTO:+0200
TZNAME:CEST
END:DAYLIGHT
END:VTIMEZONE
END:VCALENDAR