BEGIN:VCALENDAR
VERSION:2.0
PRODID:-//wp-events-plugin.com//7.2.3.1//EN
TZID:Europe/Paris
X-WR-TIMEZONE:Europe/Paris
BEGIN:VEVENT
UID:176@bananierbleu.fr
DTSTART;TZID=Europe/Paris:20120523T213000
DTEND;TZID=Europe/Paris:20120523T233000
DTSTAMP:20120404T134136Z
URL:https://bananierbleu.fr/concerts-test/caribeennes-de-mai-carte-blanche
 -a-thierry-fanfant-2/
SUMMARY:[Caribéennes de mai] Carte blanche à Thierry Fanfant - le Baiser 
 Salé - 23 Mai 12 21:30
DESCRIPTION:Thierry Fanfant basse\, Thibault Hien sax\, David Fackeure pian
 o\, J.Philippe Fanfant batt\nTout ce que Thierry touche fait de la musique
 \, et ça rayonne autour de lui\, comme de son frère Jean-Philippe. Voir 
 ces deux-là jouer ensemble vous réconcilie avec le monde. Le fait qu’i
 ls sourient en jouant est d’ailleurs moins anodin qu’il n’y paraît.
  Il ne s’agit pas de sourire pour la photo : ils sont profondément heur
 eux de jouer. 
CATEGORIES:Concerts en France
LOCATION:le Baiser Salé\, 58\, rue des Lombards\, Paris\, Île de France\,
  75001\, IleDeFrance\, France
GEO:48.8598;2.34791
X-APPLE-STRUCTURED-LOCATION;VALUE=URI;X-ADDRESS=58\, rue des Lombards\, Par
 is\, Île de France\, 75001\, IleDeFrance\, France;X-APPLE-RADIUS=100;X-TI
 TLE=le Baiser Salé:geo:48.8598,2.34791
END:VEVENT
BEGIN:VTIMEZONE
TZID:Europe/Paris
X-LIC-LOCATION:Europe/Paris
BEGIN:DAYLIGHT
DTSTART:20120325T030000
TZOFFSETFROM:+0100
TZOFFSETTO:+0200
TZNAME:CEST
END:DAYLIGHT
END:VTIMEZONE
END:VCALENDAR