BEGIN:VCALENDAR
VERSION:2.0
PRODID:-//wp-events-plugin.com//7.2.3.1//EN
TZID:Europe/Paris
X-WR-TIMEZONE:Europe/Paris
BEGIN:VEVENT
UID:174@bananierbleu.fr
DTSTART;TZID=Europe/Paris:20120522T213000
DTEND;TZID=Europe/Paris:20120522T233000
DTSTAMP:20120404T133925Z
URL:https://bananierbleu.fr/concerts-test/caribeennes-de-mai-carte-blanche
 -a-thierry-fanfant/
SUMMARY:[Caribéennes de mai] Carte blanche à Thierry Fanfant - le Baiser 
 Salé - 22 Mai 12 21:30
DESCRIPTION:Thierry Fanfant basse\, Thibault Hien sax\, David Fackeure pian
 o\, J.Philippe Fanfant batt\nFondement même de la tradition musicale qui 
 fait partie intégrante de la vie culturelle des îles de la  Guadeloupe l
 a biguine a traversé les décennies sans prendre une ride. Créée à l
 ’époque de la colonie anglaise\, cette danse traditionnelle tirerait so
 n nom du mot anglais "begin". La biguine entraîne les couples dans des en
 chaînements de déhanchés à en perdre la tête\, au rythme du Gwo Ka\, 
 tambour traditionnel du peuple créole. \nUne danse qui est à l’origine
  de la naissance du zouk\, qui a fait danser des générations entières d
 ans les Antilles comme en métropole. La biguine fait désormais partie in
 tégrante du patrimoine de la Guadeloupe. . \n
CATEGORIES:Concerts en France
LOCATION:le Baiser Salé\, 58\, rue des Lombards\, Paris\, Île de France\,
  75001\, IleDeFrance\, France
GEO:48.8598;2.34791
X-APPLE-STRUCTURED-LOCATION;VALUE=URI;X-ADDRESS=58\, rue des Lombards\, Par
 is\, Île de France\, 75001\, IleDeFrance\, France;X-APPLE-RADIUS=100;X-TI
 TLE=le Baiser Salé:geo:48.8598,2.34791
END:VEVENT
BEGIN:VTIMEZONE
TZID:Europe/Paris
X-LIC-LOCATION:Europe/Paris
BEGIN:DAYLIGHT
DTSTART:20120325T030000
TZOFFSETFROM:+0100
TZOFFSETTO:+0200
TZNAME:CEST
END:DAYLIGHT
END:VTIMEZONE
END:VCALENDAR