BEGIN:VCALENDAR
VERSION:2.0
PRODID:-//wp-events-plugin.com//7.2.3.1//EN
TZID:Europe/Paris
X-WR-TIMEZONE:Europe/Paris
BEGIN:VEVENT
UID:488@bananierbleu.fr
DTSTART;TZID=Europe/Paris:20130507T213000
DTEND;TZID=Europe/Paris:20130507T213000
DTSTAMP:20130418T125326Z
URL:https://bananierbleu.fr/concerts-test/caribeennes-de-mai-celia-w/
SUMMARY:[Caribéennes de mai] - Celia Wa - le Baiser Salé - 7 Mai 13 21:30
DESCRIPTION:"Le Jazz De Demain" - GWO KA\, HIP HOP\, JAZZ\, REGGAE\nCELIA W
 A Project\nYassin Kramdi clavier\, Eric Delblond basse\,\nJean Emmanuel Fa
 tna batterie/percus\,\nCélia Wa voix/ flûte traversière.\nUn condensé 
 des diverses influences de la jeunes auteur\, compositeur\, interprète\, 
 qui sont le gwo ka\, le jazz\, le reggae soul et le hip hop. Une musique m
 étissée et énergique qui réserve de belles surprises! 
CATEGORIES:Concerts en France
LOCATION:le Baiser Salé\, 58\, rue des Lombards\, Paris\, Île de France\,
  75001\, IleDeFrance\, France
GEO:48.8598;2.34791
X-APPLE-STRUCTURED-LOCATION;VALUE=URI;X-ADDRESS=58\, rue des Lombards\, Par
 is\, Île de France\, 75001\, IleDeFrance\, France;X-APPLE-RADIUS=100;X-TI
 TLE=le Baiser Salé:geo:48.8598,2.34791
END:VEVENT
BEGIN:VTIMEZONE
TZID:Europe/Paris
X-LIC-LOCATION:Europe/Paris
BEGIN:DAYLIGHT
DTSTART:20130331T030000
TZOFFSETFROM:+0100
TZOFFSETTO:+0200
TZNAME:CEST
END:DAYLIGHT
END:VTIMEZONE
END:VCALENDAR