BEGIN:VCALENDAR
VERSION:2.0
PRODID:-//wp-events-plugin.com//7.2.3.1//EN
TZID:Europe/Paris
X-WR-TIMEZONE:Europe/Paris
BEGIN:VEVENT
UID:486@bananierbleu.fr
DTSTART;TZID=Europe/Paris:20130504T213000
DTEND;TZID=Europe/Paris:20130504T213000
DTSTAMP:20130418T124952Z
URL:https://bananierbleu.fr/concerts-test/caribeennes-de-mai-chasseur/
SUMMARY:[Caribéennes de mai] - Tony Chasseur & Twan - le Baiser Salé - 4 
 Mai 13 21:30
DESCRIPTION:«Chanson de la Caraïbe & internationale au Parfum de Jazz\nTO
 NY CHASSEUR & TwAn\nThierry Vaton piano\, Stéphane Castry basse\,\nSonny 
 Troupé batterie\, Philippe Slominsky trompette\,\nTony Chasseur voix.\nUn
 e envie de smoothjazz vocal ? De rythmes caribéens ? D’un voyage créol
 e ? Voici TwAn\, un quintet qui mélange répertoire international (passé
  à la moulinette du métissage créole) et chanson des Antilles\, le tout
  sur une base caribéenne. Des tambours de Guadeloupe de Sonny Troupé\, 
 à la trompette parisienne de Philippe Slominski en passant par le piano e
 t la basse sans frontières de Thierry Vaton et de Stéphane Castry\, le t
 out lié par la voix martiniquaise essentielle de Tony Chasseur\, TwAn\, c
 'est le voyage dans le souvenir ou la découverte\, l'exotisme ou le famil
 ier\, mais toujours en privilégiant la surprise du rythme\, de l'interpr
 étation personnelle et originale. Un groupe rare sur scène\, à savourer
  d’urgence… 
CATEGORIES:Concerts en France
LOCATION:le Baiser Salé\, 58\, rue des Lombards\, Paris\, Île de France\,
  75001\, IleDeFrance\, France
GEO:48.8598;2.34791
X-APPLE-STRUCTURED-LOCATION;VALUE=URI;X-ADDRESS=58\, rue des Lombards\, Par
 is\, Île de France\, 75001\, IleDeFrance\, France;X-APPLE-RADIUS=100;X-TI
 TLE=le Baiser Salé:geo:48.8598,2.34791
END:VEVENT
BEGIN:VTIMEZONE
TZID:Europe/Paris
X-LIC-LOCATION:Europe/Paris
BEGIN:DAYLIGHT
DTSTART:20130331T030000
TZOFFSETFROM:+0100
TZOFFSETTO:+0200
TZNAME:CEST
END:DAYLIGHT
END:VTIMEZONE
END:VCALENDAR