BEGIN:VCALENDAR
VERSION:2.0
PRODID:-//wp-events-plugin.com//7.2.3.1//EN
TZID:Europe/Paris
X-WR-TIMEZONE:Europe/Paris
BEGIN:VEVENT
UID:504@bananierbleu.fr
DTSTART;TZID=Europe/Paris:20130525T190000
DTEND;TZID=Europe/Paris:20130525T190000
DTSTAMP:20130418T132651Z
URL:https://bananierbleu.fr/concerts-test/caribeennes-de-mai-djazil/
SUMMARY:[Caribéennes de mai] - Djazil - le Baiser Salé - 25 Mai 13 19:00
DESCRIPTION:"Jazz Caribéen"\nDJAZIL\nThérèse Henry basse\, Mathieu Borgn
 e steel pan\,\nCédric Baud guitare\, Lukmil Perez batterie\,\nJonathan Ju
 rion piano/rodhes.\nEN COURS DE PROGRAMMATION\nEntre jazz\, musique latine
  et caribéenne\, Djazil c'est une rencontre autant humaine que musicale\,
  où le maître mot est la liberté d'expression. Les compositions allient
  belles mélodies\, harmonies jazz et polyrythmies. La rencontre de divers
 es cultures est le fondement de ce groupe étonnant et talentueux. Quatre 
 musiciens\, quatre personnalités qui se complètent à merveille. Tous ar
 rangeurs\, compositeurs. Leur musique originale est à découvrir absolume
 nt en live 
CATEGORIES:Concerts en France
LOCATION:le Baiser Salé\, 58\, rue des Lombards\, Paris\, Île de France\,
  75001\, IleDeFrance\, France
GEO:48.8598;2.34791
X-APPLE-STRUCTURED-LOCATION;VALUE=URI;X-ADDRESS=58\, rue des Lombards\, Par
 is\, Île de France\, 75001\, IleDeFrance\, France;X-APPLE-RADIUS=100;X-TI
 TLE=le Baiser Salé:geo:48.8598,2.34791
END:VEVENT
BEGIN:VTIMEZONE
TZID:Europe/Paris
X-LIC-LOCATION:Europe/Paris
BEGIN:DAYLIGHT
DTSTART:20130331T030000
TZOFFSETFROM:+0100
TZOFFSETTO:+0200
TZNAME:CEST
END:DAYLIGHT
END:VTIMEZONE
END:VCALENDAR