BEGIN:VCALENDAR
VERSION:2.0
PRODID:-//wp-events-plugin.com//7.2.3.1//EN
TZID:Europe/Paris
X-WR-TIMEZONE:Europe/Paris
BEGIN:VEVENT
UID:483@bananierbleu.fr
DTSTART;TZID=Europe/Paris:20130502T213000
DTEND;TZID=Europe/Paris:20130502T213000
DTSTAMP:20130418T124359Z
URL:https://bananierbleu.fr/concerts-test/caribeennes-de-mai-djokla/
SUMMARY:[Caribéennes de mai] - Djokla - le Baiser Salé - 2 Mai 13 21:30
DESCRIPTION:Kevin Dallery batterie\, Frédéric Garnier basse\,\nYannick Ei
 chert guitare\, Jonathan Gauthiero percus\,\nDjokla voix/lead/clavier.\nDJ
 OKLA est un Artiste et un Musicien Original... Novateur et missionnaire\, 
 il crée\, revisite et expanse les rythmes authentiques de la Caraïbe. Sa
  Force\, il la puise dans ce qu'il a de plus ancré en lui : la musique de
  son pays\, la Martinique. Son Amour de la Vie se retranscrit dans ses par
 oles et sa démarche. 
CATEGORIES:Concerts en France
LOCATION:le Baiser Salé\, 58\, rue des Lombards\, Paris\, Île de France\,
  75001\, IleDeFrance\, France
GEO:48.8598;2.34791
X-APPLE-STRUCTURED-LOCATION;VALUE=URI;X-ADDRESS=58\, rue des Lombards\, Par
 is\, Île de France\, 75001\, IleDeFrance\, France;X-APPLE-RADIUS=100;X-TI
 TLE=le Baiser Salé:geo:48.8598,2.34791
END:VEVENT
BEGIN:VTIMEZONE
TZID:Europe/Paris
X-LIC-LOCATION:Europe/Paris
BEGIN:DAYLIGHT
DTSTART:20130331T030000
TZOFFSETFROM:+0100
TZOFFSETTO:+0200
TZNAME:CEST
END:DAYLIGHT
END:VTIMEZONE
END:VCALENDAR