BEGIN:VCALENDAR
VERSION:2.0
PRODID:-//wp-events-plugin.com//7.2.3.1//EN
TZID:Europe/Paris
X-WR-TIMEZONE:Europe/Paris
BEGIN:VEVENT
UID:491@bananierbleu.fr
DTSTART;TZID=Europe/Paris:20130510T193000
DTEND;TZID=Europe/Paris:20130510T193000
DTSTAMP:20130418T130210Z
URL:https://bananierbleu.fr/concerts-test/caribeennes-de-mai-evy-fackeur/
SUMMARY:[Caribéennes de mai] - Tricia Evy & David Fackeure - le Baiser Sal
 é - 10 Mai 13 19:30
DESCRIPTION:"Vocal / Caribéen"\n"De Malavoi à Ralph Thamar" - TRILOGIE TR
 ICIA EVY invite\nDAVID FACKEURE\nTricia Evy voix\, David Fackeure piano.\n
 Un voyage en Martinique des années 70 à 90 nous est proposé par ces deu
 x passionnés de musiques antillaises. Tricia\, chanteuse de couleurs Jazz
  et Caraïbes\, en passant par le Swing et la Bossa\, invite le pianiste D
 avid Fackeure\, ensemble ils biguinent… 
CATEGORIES:Concerts en France
LOCATION:le Baiser Salé\, 58\, rue des Lombards\, Paris\, Île de France\,
  75001\, IleDeFrance\, France
GEO:48.8598;2.34791
X-APPLE-STRUCTURED-LOCATION;VALUE=URI;X-ADDRESS=58\, rue des Lombards\, Par
 is\, Île de France\, 75001\, IleDeFrance\, France;X-APPLE-RADIUS=100;X-TI
 TLE=le Baiser Salé:geo:48.8598,2.34791
END:VEVENT
BEGIN:VTIMEZONE
TZID:Europe/Paris
X-LIC-LOCATION:Europe/Paris
BEGIN:DAYLIGHT
DTSTART:20130331T030000
TZOFFSETFROM:+0100
TZOFFSETTO:+0200
TZNAME:CEST
END:DAYLIGHT
END:VTIMEZONE
END:VCALENDAR