BEGIN:VCALENDAR
VERSION:2.0
PRODID:-//wp-events-plugin.com//7.2.3.1//EN
TZID:Europe/Paris
X-WR-TIMEZONE:Europe/Paris
BEGIN:VEVENT
UID:181@bananierbleu.fr
DTSTART;TZID=Europe/Paris:20120530T213000
DTEND;TZID=Europe/Paris:20120530T233000
DTSTAMP:20120404T135225Z
URL:https://bananierbleu.fr/concerts-test/caribeennes-de-mai-gregory-priva
 t-invite-manu-codjia/
SUMMARY:[Caribéennes de mai] Grégory Privat invite Manu Codjia - le Baise
 r Salé - 30 Mai 12 21:30
DESCRIPTION:Manu Codjia guit\, Sonny Troupé batt\, Zacharie Abraham cbss\,
  Grégory Privat piano\nGrégory Privat nous transporte une nouvelle fois 
 dans son univers où de subtiles mélodies reposent sur tout un éventail 
 de rythmes antillais. Un parfait équilibre entre finesse et force! \nAvec
  des complices aussi charismatiques que Manu Codjia\, guitariste que les f
 ormations de musique de jazz actuelles les plus en vue s'arrachent\, Sonny
  Troupé batteur/joueur de Ka incontournable que l’on retrouve dans de n
 ombreuses formations\, et Zacharie Abraham\, un jeune talent\, lui aussi d
 e plus en plus présent sur la scène jazz.  \n
CATEGORIES:Concerts en France
LOCATION:le Baiser Salé\, 58\, rue des Lombards\, Paris\, Île de France\,
  75001\, IleDeFrance\, France
GEO:48.8598;2.34791
X-APPLE-STRUCTURED-LOCATION;VALUE=URI;X-ADDRESS=58\, rue des Lombards\, Par
 is\, Île de France\, 75001\, IleDeFrance\, France;X-APPLE-RADIUS=100;X-TI
 TLE=le Baiser Salé:geo:48.8598,2.34791
END:VEVENT
BEGIN:VTIMEZONE
TZID:Europe/Paris
X-LIC-LOCATION:Europe/Paris
BEGIN:DAYLIGHT
DTSTART:20120325T030000
TZOFFSETFROM:+0100
TZOFFSETTO:+0200
TZNAME:CEST
END:DAYLIGHT
END:VTIMEZONE
END:VCALENDAR