BEGIN:VCALENDAR
VERSION:2.0
PRODID:-//wp-events-plugin.com//7.2.3.1//EN
TZID:Europe/Paris
X-WR-TIMEZONE:Europe/Paris
BEGIN:VEVENT
UID:482@bananierbleu.fr
DTSTART;TZID=Europe/Paris:20130502T193000
DTEND;TZID=Europe/Paris:20130502T193000
DTSTAMP:20130418T124213Z
URL:https://bananierbleu.fr/concerts-test/caribeennes-de-mai-hommage-a-geo
 rge-gershwin-et-broadway-suite/
SUMMARY:[Caribéennes de mai] - Hommage à "George Gershwin" et Broadway su
 ite  - le Baiser Salé - 2 Mai 13 19:30
DESCRIPTION:Viviane Ginape voix / Alain Jean-Marie piano.\nViviane nous fai
 t voyager dans le monde de ses artistes « références » avec le concour
 s de Mario pour un duo mêlant force et chaleur… Nous sommes invités au
  temps des comédies musicales\, de Paris à Hollywood
CATEGORIES:Concerts en France
LOCATION:le Baiser Salé\, 58\, rue des Lombards\, Paris\, Île de France\,
  75001\, IleDeFrance\, France
GEO:48.8598;2.34791
X-APPLE-STRUCTURED-LOCATION;VALUE=URI;X-ADDRESS=58\, rue des Lombards\, Par
 is\, Île de France\, 75001\, IleDeFrance\, France;X-APPLE-RADIUS=100;X-TI
 TLE=le Baiser Salé:geo:48.8598,2.34791
END:VEVENT
BEGIN:VTIMEZONE
TZID:Europe/Paris
X-LIC-LOCATION:Europe/Paris
BEGIN:DAYLIGHT
DTSTART:20130331T030000
TZOFFSETFROM:+0100
TZOFFSETTO:+0200
TZNAME:CEST
END:DAYLIGHT
END:VTIMEZONE
END:VCALENDAR